BEGIN:VCALENDAR
VERSION:2.0
PRODID:-//Cytognos, S.L. - ECPv4.9.7//NONSGML v1.0//EN
CALSCALE:GREGORIAN
METHOD:PUBLISH
X-WR-CALNAME:Cytognos, S.L.
X-ORIGINAL-URL:https://www.cytognos.com
X-WR-CALDESC:Events for Cytognos, S.L.
BEGIN:VTIMEZONE
TZID:"Europe/Paris"
BEGIN:DAYLIGHT
TZOFFSETFROM:+0100
TZOFFSETTO:+0200
TZNAME:CEST
DTSTART:20210328T010000
END:DAYLIGHT
BEGIN:STANDARD
TZOFFSETFROM:+0200
TZOFFSETTO:+0100
TZNAME:CET
DTSTART:20211031T010000
END:STANDARD
END:VTIMEZONE
BEGIN:VEVENT
DTSTART;TZID="Europe/Paris":20210309T110000
DTEND;TZID="Europe/Paris":20210309T113000
DTSTAMP:20260425T184722
CREATED:20210301T170455Z
LAST-MODIFIED:20210305T075312Z
UID:16546-1615287600-1615289400@www.cytognos.com
SUMMARY:Webinar with Cedarlane - Your cheat sheet for smarter Clinical Flow Cytometry testing (2021/03/09 - 11:00 AM PST / 2:00 PM EST)
DESCRIPTION:Join us for this 30-minute webinar co-hosted by Cedarlane\, our partner in Canada\, to learn about the standardized EuroFlow™ method: the only clinically-validated approach for onco-hematology that covers all steps of the flow cytometry assay – from sample handling to clinical reporting. \nWho should attend? \nLab managers and medical technicians working in leukemia\, lymphoma and myeloma flow cytometry immunophenotyping in the pathology laboratory. \nWhat will you learn? \n\nHow to overcome the current challenges in the clinical flow cytometry laboratory\, with a focus on minimal residual disease testing and new panel design and validation.\nWhy standardization is the way to ensure consistency and reliability of results.\nHow the comprehensive EuroFlow method can help you in streamlining your laboratory workflow and ultimately enhance patient care in your hospital.\n\nPresented by: Irene González\, Sales&Support in Canada\, Cytognos Inc. \n.fusion-button.button-1 .fusion-button-text\, .fusion-button.button-1 i {color:#bb0000;}.fusion-button.button-1 {border-width:1px;border-color:#bb0000;}.fusion-button.button-1 .fusion-button-icon-divider{border-color:#bb0000;}.fusion-button.button-1:hover .fusion-button-text\, .fusion-button.button-1:hover i\,.fusion-button.button-1:focus .fusion-button-text\, .fusion-button.button-1:focus i\,.fusion-button.button-1:active .fusion-button-text\, .fusion-button.button-1:active{color:#bb0000;}.fusion-button.button-1:hover\, .fusion-button.button-1:focus\, .fusion-button.button-1:active{border-width:1px;border-color:#bb0000;}.fusion-button.button-1:hover .fusion-button-icon-divider\, .fusion-button.button-1:hover .fusion-button-icon-divider\, .fusion-button.button-1:active .fusion-button-icon-divider{border-color:#bb0000;}.fusion-button.button-1 .fusion-button-text {text-transform:uppercase;}.fusion-button.button-1{width:auto;}Check your local time\n\n\n
URL:https://www.cytognos.com/event/webinar-with-cedarlane-your-cheat-sheet-for-smarter-clinical-flow-cytometry-testing-2021-03-09-1100-am-pst-200-pm-est/
CATEGORIES:Webinars
ATTACH;FMTTYPE=image/png:https://www.cytognos.com/wp-content/uploads/vutls-min.png
END:VEVENT
END:VCALENDAR