BEGIN:VCALENDAR
VERSION:2.0
PRODID:-//Cytognos, S.L. - ECPv4.9.7//NONSGML v1.0//EN
CALSCALE:GREGORIAN
METHOD:PUBLISH
X-WR-CALNAME:Cytognos, S.L.
X-ORIGINAL-URL:https://www.cytognos.com
X-WR-CALDESC:Events for Cytognos, S.L.
BEGIN:VTIMEZONE
TZID:"Europe/Paris"
BEGIN:DAYLIGHT
TZOFFSETFROM:+0100
TZOFFSETTO:+0200
TZNAME:CEST
DTSTART:20210328T010000
END:DAYLIGHT
BEGIN:STANDARD
TZOFFSETFROM:+0200
TZOFFSETTO:+0100
TZNAME:CET
DTSTART:20211031T010000
END:STANDARD
END:VTIMEZONE
BEGIN:VEVENT
DTSTART;TZID="Europe/Paris":20210126T110000
DTEND;TZID="Europe/Paris":20210126T120000
DTSTAMP:20260425T171332
CREATED:20210113T093642Z
LAST-MODIFIED:20210126T120347Z
UID:14600-1611658800-1611662400@www.cytognos.com
SUMMARY:Webinar - The role of Flow Cytometry in the laboratory approach of Primary Immunodeficiency (2021/01/26) – 11:00 AM CET
DESCRIPTION:Join this webinar with our invited speaker Catarina Martins\, PhD “The role of Flow Cytometry in the laboratory approach of Primary Immunodeficiency” \nPrimary Immunodeficiency (PID) comprises a complex and heterogeneous group of rare diseases that affect the immune system\, disturbing several cell subsets and/or functions. In this webinar\, Catarina Martins will highlight how flow cytometry is a highly valuable tool to assist clinicians and researchers in the diagnosis\, monitoring and follow up of PID patients\, contributing also to a better comprehension of pathophysiological mechanisms. Addressing the recent EuroFlow™ strategies with the PID Orientation Tube\, this webinar will further explore different PID cases using this standardized analysis strategy with Infinicyt™ 2.0 software\, allied to database evaluation\, crucial considering the rarity of many of these entities. \nCatarina Martins\, PhD\, is an Invited Assistant Professor of Immunology at NOVA Medical School (NMS) – Lisbon\, Portugal. At NMS\, she is also the Technical manager of the Primary Immunodeficiency Laboratory\, addressing both diagnostic purposes and research projects\, funded by national and international grants. She has contributed to several original papers published in peer-reviewed journals on this area. Since 2016\, she is also Coordinator of the Biosafety Committee of NMS\, and she collaborates with the National Accreditation bodies of Portugal and Ireland as technical and lead assessor for medical laboratories (ISO 17025 and ISO 15189). Catarina is also vowel of the Iberian Cytometry Society and a volunteer in the ISAC SRL Outreach Task Force. \n.fusion-button.button-1 .fusion-button-text\, .fusion-button.button-1 i {color:#bb0000;}.fusion-button.button-1 {border-width:1px;border-color:#bb0000;}.fusion-button.button-1 .fusion-button-icon-divider{border-color:#bb0000;}.fusion-button.button-1:hover .fusion-button-text\, .fusion-button.button-1:hover i\,.fusion-button.button-1:focus .fusion-button-text\, .fusion-button.button-1:focus i\,.fusion-button.button-1:active .fusion-button-text\, .fusion-button.button-1:active{color:#bb0000;}.fusion-button.button-1:hover\, .fusion-button.button-1:focus\, .fusion-button.button-1:active{border-width:1px;border-color:#bb0000;}.fusion-button.button-1:hover .fusion-button-icon-divider\, .fusion-button.button-1:hover .fusion-button-icon-divider\, .fusion-button.button-1:active .fusion-button-icon-divider{border-color:#bb0000;}.fusion-button.button-1 .fusion-button-text {text-transform:uppercase;}.fusion-button.button-1{width:auto;}Check your local time\n
URL:https://www.cytognos.com/event/webinar-the-role-of-flow-cytometry-in-the-laboratory-approach-of-primary-immunodeficiency-2021-01-26-1100-am-cet/
CATEGORIES:Webinars
ATTACH;FMTTYPE=image/png:https://www.cytognos.com/wp-content/uploads/webinar-Catarina_Martins-min.png
END:VEVENT
END:VCALENDAR