BEGIN:VCALENDAR
VERSION:2.0
PRODID:-//Cytognos, S.L. - ECPv4.9.7//NONSGML v1.0//EN
CALSCALE:GREGORIAN
METHOD:PUBLISH
X-WR-CALNAME:Cytognos, S.L.
X-ORIGINAL-URL:https://www.cytognos.com
X-WR-CALDESC:Events for Cytognos, S.L.
BEGIN:VTIMEZONE
TZID:"Europe/Paris"
BEGIN:DAYLIGHT
TZOFFSETFROM:+0100
TZOFFSETTO:+0200
TZNAME:CEST
DTSTART:20210328T010000
END:DAYLIGHT
BEGIN:STANDARD
TZOFFSETFROM:+0200
TZOFFSETTO:+0100
TZNAME:CET
DTSTART:20211031T010000
END:STANDARD
END:VTIMEZONE
BEGIN:VEVENT
DTSTART;VALUE=DATE:20210727
DTEND;VALUE=DATE:20210728
DTSTAMP:20260425T185750
CREATED:20210715T111815Z
LAST-MODIFIED:20220110T075302Z
UID:18799-1627344000-1627430399@www.cytognos.com
SUMMARY:Webinar - The added value of a screening step in flow cytometry. Much more than a single tube. - 7 PM CEST
DESCRIPTION:Multiparametric flow cytometry has an impressive potential to assess a broad amount of data. It allows simultaneous characterisation of different cell populations\, showing in many cases\, the relationship among them and between pathological cells and their microenvironment. Obtaining this information is crucial and critical for guiding the diagnosis of many diseases. However\, it often requires experience\, time and resources that are not always available. \nTo tackle this issue\, a screening step can considerably facilitate the diagnostic approach\, since it allows to explore multiple underlying diseases responsible for a similar semiology. Also\, it is very effective and permits to reduce costs and diagnosis time. \nIn this webinar\, Carlos M. Fernández\, MD\, PhD will explain: \n\nThe clinical relevance of performing a screening step in Acute Leukemias and Chronic Lymphoproliferative Disorders.\nRequirements to be met by a screening tube in order to help clinicians make a good differential diagnosis.\nConsiderations to be taken into account when designing and validating a screening tube.\nHow reference databases can help to obtain more objective and accurate information.\n\nCarlos M. Fernández\, MD\, PhD is the Coordinator and Director of the flow cytometry training at the Flow Cytometry Core\, University of Salamanca and since 2018 he leads the Diploma of Specialisation in Flow Cytometry for the diagnosis and monitoring of hematological malignancies and Primary Immunodeficiences\, University of Salamanca. He is an MD specialized in Clinical Chemistry with more than 15 years of experience in the field of flow cytometry for the diagnosis of hematological diseases. \n7 PM GMT+2 (Madrid\, Spain)\n1 AM GMT+8 (Beijing\, China)\n3 AM GMT+10 (Sydney\, Australia)\n2 PM GMT-3 (Rio de Janeiro\, Brasil)\n1 PM GMT-4 (New York\, NY\, USA)\n10 AM GMT-7 (Los Angeles\, CA\, USA)\n6 PM GMT+1 (London\, United Kingdom) \n.fusion-button.button-1 .fusion-button-text\, .fusion-button.button-1 i {color:#bb0000;}.fusion-button.button-1 {border-width:1px;border-color:#bb0000;}.fusion-button.button-1 .fusion-button-icon-divider{border-color:#bb0000;}.fusion-button.button-1:hover .fusion-button-text\, .fusion-button.button-1:hover i\,.fusion-button.button-1:focus .fusion-button-text\, .fusion-button.button-1:focus i\,.fusion-button.button-1:active .fusion-button-text\, .fusion-button.button-1:active{color:#bb0000;}.fusion-button.button-1:hover\, .fusion-button.button-1:focus\, .fusion-button.button-1:active{border-width:1px;border-color:#bb0000;}.fusion-button.button-1:hover .fusion-button-icon-divider\, .fusion-button.button-1:hover .fusion-button-icon-divider\, .fusion-button.button-1:active .fusion-button-icon-divider{border-color:#bb0000;}.fusion-button.button-1 .fusion-button-text {text-transform:uppercase;}.fusion-button.button-1{width:auto;}Check your local time\n\n
URL:https://www.cytognos.com/event/webinar-the-added-value-of-a-screening-step-in-flow-cytometry-much-more-than-a-single-tube-7-pm-cest/
CATEGORIES:Webinars
ATTACH;FMTTYPE=image/png:https://www.cytognos.com/wp-content/uploads/screening-carlos3-min.png
END:VEVENT
END:VCALENDAR