BEGIN:VCALENDAR
VERSION:2.0
PRODID:-//Cytognos, S.L. - ECPv4.9.7//NONSGML v1.0//EN
CALSCALE:GREGORIAN
METHOD:PUBLISH
X-WR-CALNAME:Cytognos, S.L.
X-ORIGINAL-URL:https://www.cytognos.com
X-WR-CALDESC:Events for Cytognos, S.L.
BEGIN:VTIMEZONE
TZID:"Europe/Paris"
BEGIN:DAYLIGHT
TZOFFSETFROM:+0100
TZOFFSETTO:+0200
TZNAME:CEST
DTSTART:20190331T010000
END:DAYLIGHT
BEGIN:STANDARD
TZOFFSETFROM:+0200
TZOFFSETTO:+0100
TZNAME:CET
DTSTART:20191027T010000
END:STANDARD
END:VTIMEZONE
BEGIN:VEVENT
DTSTART;TZID="Europe/Paris":20190131T170000
DTEND;TZID="Europe/Paris":20190131T190000
DTSTAMP:20260425T170145
CREATED:20191029T165907Z
LAST-MODIFIED:20191029T165907Z
UID:6034-1548954000-1548961200@www.cytognos.com
SUMMARY:Webinar - Take advantage of your Infinicyt™ Profile! (2019/01/31)
DESCRIPTION:Make your Infinicyt™ more profitable! \nLearn more about the Infinicyt™ Profile in our January FREE webinar \n\nProfile components\nHow to manage a Profile?\nAnalysis Strategies\nReference images\nTips and tricks\nDemo on Infinicyt™ 2.0\n\n
URL:https://www.cytognos.com/event/webinar-take-advantage-of-your-infinicyt-profile-2019-01-31/
CATEGORIES:Webinars
ATTACH;FMTTYPE=image/jpeg:https://www.cytognos.com/wp-content/uploads/img-webinar-demo-2.jpg
END:VEVENT
END:VCALENDAR