BEGIN:VCALENDAR
VERSION:2.0
PRODID:-//Cytognos, S.L. - ECPv4.9.7//NONSGML v1.0//EN
CALSCALE:GREGORIAN
METHOD:PUBLISH
X-WR-CALNAME:Cytognos, S.L.
X-ORIGINAL-URL:https://www.cytognos.com
X-WR-CALDESC:Events for Cytognos, S.L.
BEGIN:VTIMEZONE
TZID:"Europe/Paris"
BEGIN:DAYLIGHT
TZOFFSETFROM:+0100
TZOFFSETTO:+0200
TZNAME:CEST
DTSTART:20210328T010000
END:DAYLIGHT
BEGIN:STANDARD
TZOFFSETFROM:+0200
TZOFFSETTO:+0100
TZNAME:CET
DTSTART:20211031T010000
END:STANDARD
END:VTIMEZONE
BEGIN:VEVENT
DTSTART;VALUE=DATE:20210805
DTEND;VALUE=DATE:20210806
DTSTAMP:20260425T185535
CREATED:20210720T062123Z
LAST-MODIFIED:20220110T075237Z
UID:18803-1628121600-1628207999@www.cytognos.com
SUMMARY:Webinar - T cell immunotherapy evaluation - 1 PM EST
DESCRIPTION:Join us in this webinar and discover a new flow cytometry approach to evaluate the CD4+ and CD8+ T cell subsets and its differentiation. \nWhat will you learn? \nWe’ll present a new 7-colour panel for the identification of different subpopulations of naïve and memory T-cells\, the T cell subsets tube\, where the FITC channel is free to include specific proteins or markers. With this tube you can monitor oncologic patients as well as measure the response to vaccines or infections. In addition\, the free FITC channel can be used to evaluate immunotherapies (e.g. identification of CAR T cells vs. endogenous T cells). \n7 PM GMT+2 (Madrid\, Spain)\n1 PM GMT-4 (New York\, NY\, USA)\n10 AM GMT-7 (Los Angeles\, CA\, USA)\n2 PM GMT-3 (Rio de Janeiro\, Brasil)\n6 PM GMT (London\, United Kingdom) \n.fusion-button.button-1 .fusion-button-text\, .fusion-button.button-1 i {color:#bb0000;}.fusion-button.button-1 {border-width:1px;border-color:#bb0000;}.fusion-button.button-1 .fusion-button-icon-divider{border-color:#bb0000;}.fusion-button.button-1:hover .fusion-button-text\, .fusion-button.button-1:hover i\,.fusion-button.button-1:focus .fusion-button-text\, .fusion-button.button-1:focus i\,.fusion-button.button-1:active .fusion-button-text\, .fusion-button.button-1:active{color:#bb0000;}.fusion-button.button-1:hover\, .fusion-button.button-1:focus\, .fusion-button.button-1:active{border-width:1px;border-color:#bb0000;}.fusion-button.button-1:hover .fusion-button-icon-divider\, .fusion-button.button-1:hover .fusion-button-icon-divider\, .fusion-button.button-1:active .fusion-button-icon-divider{border-color:#bb0000;}.fusion-button.button-1 .fusion-button-text {text-transform:uppercase;}.fusion-button.button-1{width:auto;}Check your local time\n\n
URL:https://www.cytognos.com/event/webinar-t-cell-immunotherapy-evaluation-1-pm-est/
CATEGORIES:Webinars
ATTACH;FMTTYPE=image/png:https://www.cytognos.com/wp-content/uploads/t-cell-biospecifix-min.png
END:VEVENT
END:VCALENDAR