BEGIN:VCALENDAR
VERSION:2.0
PRODID:-//Cytognos, S.L. - ECPv4.9.7//NONSGML v1.0//EN
CALSCALE:GREGORIAN
METHOD:PUBLISH
X-WR-CALNAME:Cytognos, S.L.
X-ORIGINAL-URL:https://www.cytognos.com
X-WR-CALDESC:Events for Cytognos, S.L.
BEGIN:VTIMEZONE
TZID:"Europe/Paris"
BEGIN:DAYLIGHT
TZOFFSETFROM:+0100
TZOFFSETTO:+0200
TZNAME:CEST
DTSTART:20190331T010000
END:DAYLIGHT
BEGIN:STANDARD
TZOFFSETFROM:+0200
TZOFFSETTO:+0100
TZNAME:CET
DTSTART:20191027T010000
END:STANDARD
END:VTIMEZONE
BEGIN:VEVENT
DTSTART;TZID="Europe/Paris":20190411T110000
DTEND;TZID="Europe/Paris":20190411T130000
DTSTAMP:20260425T170044
CREATED:20191029T162217Z
LAST-MODIFIED:20191029T162217Z
UID:6029-1554980400-1554987600@www.cytognos.com
SUMMARY:Webinar - Omnicyt™: CE-IVD NGF solution for MM Assessment (2019/04/11)
DESCRIPTION:Learn more about how Omnicyt™ features can improve your diagnostic evaluations in our April FREE webinar: \nCytognos NGF complete solution \n\nBrief description of NGF methodology\nAdvantages of adopting NGF methodologies\n\nOmnicyt™ \n\nFeatures and advantages\nCE-IVD validation and marking: result analysis\n\nNGF approach for MRD detection in MM \n\nRequirements\nWorkflow\n\nFinal remarks \n
URL:https://www.cytognos.com/event/webinar-omnicyt-2019-04-09-2/
CATEGORIES:Webinars
ATTACH;FMTTYPE=image/jpeg:https://www.cytognos.com/wp-content/uploads/omicyt-webinar.jpg
END:VEVENT
END:VCALENDAR