BEGIN:VCALENDAR
VERSION:2.0
PRODID:-//Cytognos, S.L. - ECPv4.9.7//NONSGML v1.0//EN
CALSCALE:GREGORIAN
METHOD:PUBLISH
X-WR-CALNAME:Cytognos, S.L.
X-ORIGINAL-URL:https://www.cytognos.com
X-WR-CALDESC:Events for Cytognos, S.L.
BEGIN:VTIMEZONE
TZID:"Europe/Paris"
BEGIN:DAYLIGHT
TZOFFSETFROM:+0100
TZOFFSETTO:+0200
TZNAME:CEST
DTSTART:20190331T010000
END:DAYLIGHT
BEGIN:STANDARD
TZOFFSETFROM:+0200
TZOFFSETTO:+0100
TZNAME:CET
DTSTART:20191027T010000
END:STANDARD
END:VTIMEZONE
BEGIN:VEVENT
DTSTART;TZID="Europe/Paris":20190423T170000
DTEND;TZID="Europe/Paris":20190423T190000
DTSTAMP:20260425T184436
CREATED:20191029T154227Z
LAST-MODIFIED:20191029T154227Z
UID:6023-1556038800-1556046000@www.cytognos.com
SUMMARY:Webinar - NGF for BCP-ALL MRD: live analysis with Infinicyt™ (2019/04/23)
DESCRIPTION:Would you like to know all the tips and tricks from sample preparation to data analysis? \nJoin our April FREE webinar! \n\nWhy is it important to evaluate MRD in BCP-ALL?\nNext Generation Flow for MRD studies\nBCP-ALL MRD combination\nLive analysis with Infinicyt™: healthy and pathological samples\n\n
URL:https://www.cytognos.com/event/webinar-ngf-for-bcp-all-mrd-2019-04-23/
CATEGORIES:Webinars
ATTACH;FMTTYPE=image/jpeg:https://www.cytognos.com/wp-content/uploads/img-webinar-demo-2.jpg
END:VEVENT
END:VCALENDAR