BEGIN:VCALENDAR
VERSION:2.0
PRODID:-//Cytognos, S.L. - ECPv4.9.7//NONSGML v1.0//EN
CALSCALE:GREGORIAN
METHOD:PUBLISH
X-WR-CALNAME:Cytognos, S.L.
X-ORIGINAL-URL:https://www.cytognos.com
X-WR-CALDESC:Events for Cytognos, S.L.
BEGIN:VTIMEZONE
TZID:"Europe/Paris"
BEGIN:DAYLIGHT
TZOFFSETFROM:+0100
TZOFFSETTO:+0200
TZNAME:CEST
DTSTART:20210328T010000
END:DAYLIGHT
BEGIN:STANDARD
TZOFFSETFROM:+0200
TZOFFSETTO:+0100
TZNAME:CET
DTSTART:20211031T010000
END:STANDARD
END:VTIMEZONE
BEGIN:VEVENT
DTSTART;VALUE=DATE:20210730
DTEND;VALUE=DATE:20210731
DTSTAMP:20260425T184721
CREATED:20210617T102125Z
LAST-MODIFIED:20220110T075255Z
UID:18433-1627603200-1627689599@www.cytognos.com
SUMMARY:Webinar Masterclass - Citometría de Flujo de Nueva Generación en el estudio de Discrasias de Células Plasmáticas - 9 PM GMT
DESCRIPTION:Las neoplasias de células plasmáticas son un grupo heterogéneo de enfermedades caracterizadas por la expansión sistémica clonal de células plasmáticas\, resultado de múltiples lesiones genéticas acumulativas. Las etapas avanzadas de la enfermedad se caracterizan por la alta frecuencia de células plasmáticas tumorales y daño de órganos\, que requieren terapia y tienen una potencial transformación en leucemia de células plasmáticas. \nLa utilidad clínica de la citometría de flujo se basa en la identificación\, cuantificación y caracterización de células plasmáticas en las diferentes fases del mieloma múltiple: diagnóstico\, pronóstico y evaluación de la enfermedad mínima residual. \nEn esta ocasión el Dr. Alejandro Berkovits\, en colaboración con Cytognos y la Clínica Bupa Santiago\, nos enseñará más acerca de este tipo de patologías y profundizará en el diagnóstico y seguimiento de discrasias de células plasmáticas a través de la citometría de flujo de nueva generación\, explorando diferentes casos usando las estrategias de análisis estandarizado del software Infinicyt™ 2.0. \n11 PM GMT+2 (Madrid\, España)\n5 PM GMT-4 (Santiago de Chile\, Chile)\n9 PM GMT\n \n.fusion-button.button-1 .fusion-button-text\, .fusion-button.button-1 i {color:#bb0000;}.fusion-button.button-1 {border-width:1px;border-color:#bb0000;}.fusion-button.button-1 .fusion-button-icon-divider{border-color:#bb0000;}.fusion-button.button-1:hover .fusion-button-text\, .fusion-button.button-1:hover i\,.fusion-button.button-1:focus .fusion-button-text\, .fusion-button.button-1:focus i\,.fusion-button.button-1:active .fusion-button-text\, .fusion-button.button-1:active{color:#bb0000;}.fusion-button.button-1:hover\, .fusion-button.button-1:focus\, .fusion-button.button-1:active{border-width:1px;border-color:#bb0000;}.fusion-button.button-1:hover .fusion-button-icon-divider\, .fusion-button.button-1:hover .fusion-button-icon-divider\, .fusion-button.button-1:active .fusion-button-icon-divider{border-color:#bb0000;}.fusion-button.button-1 .fusion-button-text {text-transform:uppercase;}.fusion-button.button-1{width:auto;}Check your local time\n\n
URL:https://www.cytognos.com/event/webinar-masterclass-citometria-de-flujo-de-nueva-generacion-en-el-estudio-de-discrasias-de-celulas-plasmaticas-9-pm-gmt/
CATEGORIES:Webinars
ATTACH;FMTTYPE=image/png:https://www.cytognos.com/wp-content/uploads/masterclass-Alejandro-Berkovits-3-min.png
END:VEVENT
END:VCALENDAR