BEGIN:VCALENDAR
VERSION:2.0
PRODID:-//Cytognos, S.L. - ECPv4.9.7//NONSGML v1.0//EN
CALSCALE:GREGORIAN
METHOD:PUBLISH
X-WR-CALNAME:Cytognos, S.L.
X-ORIGINAL-URL:https://www.cytognos.com
X-WR-CALDESC:Events for Cytognos, S.L.
BEGIN:VTIMEZONE
TZID:"Europe/Paris"
BEGIN:DAYLIGHT
TZOFFSETFROM:+0100
TZOFFSETTO:+0200
TZNAME:CEST
DTSTART:20190331T010000
END:DAYLIGHT
BEGIN:STANDARD
TZOFFSETFROM:+0200
TZOFFSETTO:+0100
TZNAME:CET
DTSTART:20191027T010000
END:STANDARD
END:VTIMEZONE
BEGIN:VEVENT
DTSTART;TZID="Europe/Paris":20191031T173000
DTEND;TZID="Europe/Paris":20191031T180000
DTSTAMP:20260425T184519
CREATED:20191025T064039Z
LAST-MODIFIED:20191107T085015Z
UID:5731-1572543000-1572544800@www.cytognos.com
SUMMARY:Webinar - Infinicyt™ tips and tricks (2019/10/31)
DESCRIPTION:Infinicyt™ is a flow cytometry data analysis software that includes innovative tools for analysis\, integration and interpretation. It allows to explore your data in a multivariate\, standard\, efficient\, sensitive and reproducible way. \nBy attending our webinar you will learn how to: \n\nFile Editor Profile: Edit labels and parameter order permanently in FCS files during analysis.\nGating: 12 different ways to improve your gating: from manual to automated.\nPopulation Tree: Create populations\, modify visibility\, change order\, etc.\nDiagrams: Helpful configuration options.\nProfile: How to transfer components between profiles.\nCheck Performance: Quicker ways to identify issues with compensation\, scatter and debris/doublets.\nReport: Faster ways to customize report components: keywords\, header/footer\, etc.\nAnd much more…\n\n
URL:https://www.cytognos.com/event/webinar-infinicyt-tips-and-tricks-2019-10-31/
CATEGORIES:Webinars
ATTACH;FMTTYPE=image/jpeg:https://www.cytognos.com/wp-content/uploads/img-webinar-demo-2.jpg
END:VEVENT
END:VCALENDAR