BEGIN:VCALENDAR
VERSION:2.0
PRODID:-//Cytognos, S.L. - ECPv4.9.7//NONSGML v1.0//EN
CALSCALE:GREGORIAN
METHOD:PUBLISH
X-WR-CALNAME:Cytognos, S.L.
X-ORIGINAL-URL:https://www.cytognos.com
X-WR-CALDESC:Events for Cytognos, S.L.
BEGIN:VTIMEZONE
TZID:"Europe/Paris"
BEGIN:DAYLIGHT
TZOFFSETFROM:+0100
TZOFFSETTO:+0200
TZNAME:CEST
DTSTART:20210328T010000
END:DAYLIGHT
BEGIN:STANDARD
TZOFFSETFROM:+0200
TZOFFSETTO:+0100
TZNAME:CET
DTSTART:20211031T010000
END:STANDARD
END:VTIMEZONE
BEGIN:VEVENT
DTSTART;VALUE=DATE:20210323
DTEND;VALUE=DATE:20210324
DTSTAMP:20260425T184728
CREATED:20210311T111916Z
LAST-MODIFIED:20220105T124551Z
UID:16574-1616457600-1616543999@www.cytognos.com
SUMMARY:Webinar - Impact de la méthode standardisée EuroFlow sur la précision du diagnostic des leucémies aiguës - 3 PM GMT
DESCRIPTION:Les leucémies aiguës originant de cellules immatures du système hématopoïétique capables de maturation et de différenciation forment un groupe de maladies hétérogène. La classification des leucémies aiguës peut s’avérer laborieuse lorsque les blastes ne démontrent que des signes précoces ou minimes de différenciation. Certaines entités telles que la néoplasie à cellules dendritiques plasmacytoïdes blastiques (PBDCN) et la leucémie aiguë lymphoblastique « Early T cell precursor » (LLA ETP) peuvent être méprises pour des leucémies myéloïdes aiguës avec différenciation minimale (LMA M0) lorsque des panels d’immunophénotypage non exhaustifs sont utilisés. \nLors de ce webinaire\, Rafik Terra décrira la comparaison d’une approche de cytométrie de flux non standardisée avec l’approche standardisée EuroFlow™. Cette étude a évalué l’impact de l’approche EuroFlow sur la précision du diagnostic des leucémies aiguës et particulièrement des leucémies aiguës peu différenciées. \nRafik Terra\, docteur en immunologie et sciences biomédicales\, possède une vaste expérience en cytométrie de flux clinique. En plus de son poste actuel de directeur scientifique du laboratoire de cytométrie en flux de l’hôpital Maisonneuve Rosemont\, il travaille comme enseignant et conférencier invité pour plusieurs hôpitaux et pour l’Université de Montréal (UdeM) ainsi que comme consultant pour différentes entreprises. \n11 AM GMT-4 (Montréal\, Canada)\n4 PM GMT+1 (Paris\, France)\n3 PM GMT (London\, United Kingdom)\n \n.fusion-button.button-1 .fusion-button-text\, .fusion-button.button-1 i {color:#bb0000;}.fusion-button.button-1 {border-width:1px;border-color:#bb0000;}.fusion-button.button-1 .fusion-button-icon-divider{border-color:#bb0000;}.fusion-button.button-1:hover .fusion-button-text\, .fusion-button.button-1:hover i\,.fusion-button.button-1:focus .fusion-button-text\, .fusion-button.button-1:focus i\,.fusion-button.button-1:active .fusion-button-text\, .fusion-button.button-1:active{color:#bb0000;}.fusion-button.button-1:hover\, .fusion-button.button-1:focus\, .fusion-button.button-1:active{border-width:1px;border-color:#bb0000;}.fusion-button.button-1:hover .fusion-button-icon-divider\, .fusion-button.button-1:hover .fusion-button-icon-divider\, .fusion-button.button-1:active .fusion-button-icon-divider{border-color:#bb0000;}.fusion-button.button-1 .fusion-button-text {text-transform:uppercase;}.fusion-button.button-1{width:auto;}Check your local time\n\n
URL:https://www.cytognos.com/event/webinar-impact-de-la-methode-standardisee-euroflow-sur-la-precision-du-diagnostic-des-leucemies-aigues-3-pm-gmt/
CATEGORIES:Webinars
ATTACH;FMTTYPE=image/png:https://www.cytognos.com/wp-content/uploads/webinar-rafik-fr-min.png
END:VEVENT
END:VCALENDAR