BEGIN:VCALENDAR
VERSION:2.0
PRODID:-//Cytognos, S.L. - ECPv4.9.7//NONSGML v1.0//EN
CALSCALE:GREGORIAN
METHOD:PUBLISH
X-WR-CALNAME:Cytognos, S.L.
X-ORIGINAL-URL:https://www.cytognos.com
X-WR-CALDESC:Events for Cytognos, S.L.
BEGIN:VTIMEZONE
TZID:"Europe/Paris"
BEGIN:DAYLIGHT
TZOFFSETFROM:+0100
TZOFFSETTO:+0200
TZNAME:CEST
DTSTART:20200329T010000
END:DAYLIGHT
BEGIN:STANDARD
TZOFFSETFROM:+0200
TZOFFSETTO:+0100
TZNAME:CET
DTSTART:20201025T010000
END:STANDARD
END:VTIMEZONE
BEGIN:VEVENT
DTSTART;TZID="Europe/Paris":20200728T110000
DTEND;TZID="Europe/Paris":20200728T120000
DTSTAMP:20260425T185908
CREATED:20200721T075943Z
LAST-MODIFIED:20200727T105840Z
UID:11879-1595934000-1595937600@www.cytognos.com
SUMMARY:Webinar - Immune monitoring COVID-19 by Next Generation Flow™ (2020/07/28) – 11:00 AM CEST
DESCRIPTION:Get the full picture of the immune system of your COVID-19 patient for better therapeutic decisions. \nJoin us for a 1-hour webinar to explore the potential of Next Generation Flow™ for the study of COVID-19. \nKey learning points: \n\nThe role of flow cytometry for COVID-19 immune monitoring.\nWhy to monitor COVID-19 patients based on latest scientific evidence.\nThe importance of a robust reference database of normal controls (age-related reference ranges for frequency and absolute counts).\nLive analysis of a COVID-19 patient case vs a normal case using Infinicyt™ 2.0 software.\n\n.fusion-button.button-1 .fusion-button-text\, .fusion-button.button-1 i {color:#bb0000;}.fusion-button.button-1 {border-width:1px;border-color:#bb0000;}.fusion-button.button-1 .fusion-button-icon-divider{border-color:#bb0000;}.fusion-button.button-1:hover .fusion-button-text\, .fusion-button.button-1:hover i\,.fusion-button.button-1:focus .fusion-button-text\, .fusion-button.button-1:focus i\,.fusion-button.button-1:active .fusion-button-text\, .fusion-button.button-1:active{color:#bb0000;}.fusion-button.button-1:hover\, .fusion-button.button-1:focus\, .fusion-button.button-1:active{border-width:1px;border-color:#bb0000;}.fusion-button.button-1:hover .fusion-button-icon-divider\, .fusion-button.button-1:hover .fusion-button-icon-divider\, .fusion-button.button-1:active .fusion-button-icon-divider{border-color:#bb0000;}.fusion-button.button-1 .fusion-button-text {text-transform:uppercase;}.fusion-button.button-1{width:auto;}Check your local time\n\n\n\n\n\n\n
URL:https://www.cytognos.com/event/webinar-immune-monitoring-covid-19-by-next-generation-flow-2020-07-28-1100-am-cest/
CATEGORIES:Webinars
ATTACH;FMTTYPE=image/png:https://www.cytognos.com/wp-content/uploads/newsletter-pidot-min.png
END:VEVENT
END:VCALENDAR