BEGIN:VCALENDAR
VERSION:2.0
PRODID:-//Cytognos, S.L. - ECPv4.9.7//NONSGML v1.0//EN
CALSCALE:GREGORIAN
METHOD:PUBLISH
X-WR-CALNAME:Cytognos, S.L.
X-ORIGINAL-URL:https://www.cytognos.com
X-WR-CALDESC:Events for Cytognos, S.L.
BEGIN:VTIMEZONE
TZID:"Europe/Paris"
BEGIN:DAYLIGHT
TZOFFSETFROM:+0100
TZOFFSETTO:+0200
TZNAME:CEST
DTSTART:20200329T010000
END:DAYLIGHT
BEGIN:STANDARD
TZOFFSETFROM:+0200
TZOFFSETTO:+0100
TZNAME:CET
DTSTART:20201025T010000
END:STANDARD
END:VTIMEZONE
BEGIN:VEVENT
DTSTART;VALUE=DATE:20200630
DTEND;VALUE=DATE:20200701
DTSTAMP:20260425T202754
CREATED:20200608T161638Z
LAST-MODIFIED:20200617T072727Z
UID:11457-1593475200-1593561599@www.cytognos.com
SUMMARY:Webinar - How to analyze a MM MRD case with Infinicyt™ software with Med Tech Trading and Cytognos - (2020/06/30) - 3:30PM CEST
DESCRIPTION:In collaboration with Med Tech Trading\, our partner in Switzerland and Austria\, we are pleased to host the third 1-hour webinar. \nJoin us to discover our highly sensitive Next Generation Flow solution to follow up Myeloma patients and learn how to analyze a clinical case with Infinicyt software. \nIn this webinar you’ll learn how to: \n\nHandle a +5 million event multi-tube panel\nCheck the sample quality\nIdentify the Plasma Cells across multiple files thanks to the backbone markers\nLook at the immunophenotype of normal and abnormal Plasma Cells in different diagrams\nReport MRD and LOD/LLOQ\n\nSpeaker: Alejandra Jiménez\, Product Specialist\, Cytognos S.L. \n\n.fusion-button.button-1 .fusion-button-text\, .fusion-button.button-1 i {color:#bb0000;}.fusion-button.button-1 {border-width:1px;border-color:#bb0000;}.fusion-button.button-1 .fusion-button-icon-divider{border-color:#bb0000;}.fusion-button.button-1:hover .fusion-button-text\, .fusion-button.button-1:hover i\,.fusion-button.button-1:focus .fusion-button-text\, .fusion-button.button-1:focus i\,.fusion-button.button-1:active .fusion-button-text\, .fusion-button.button-1:active{color:#bb0000;}.fusion-button.button-1:hover\, .fusion-button.button-1:focus\, .fusion-button.button-1:active{border-width:1px;border-color:#bb0000;}.fusion-button.button-1:hover .fusion-button-icon-divider\, .fusion-button.button-1:hover .fusion-button-icon-divider\, .fusion-button.button-1:active .fusion-button-icon-divider{border-color:#bb0000;}.fusion-button.button-1 .fusion-button-text {text-transform:uppercase;}.fusion-button.button-1{width:auto;}Check your local time\n\n\n\n\n\n\n\n\n\n\nWebinar exclusive for the countries listed above. If you want to hear about this subjet\, register here.\n  \n\n\n\n\n\n\n\n
URL:https://www.cytognos.com/event/webinar-how-to-analyze-a-mm-mrd-case-with-infinicyt-software-with-med-tech-trading-and-cytognos-2020-06-30-330pm-cest/
CATEGORIES:Webinars
ATTACH;FMTTYPE=image/png:https://www.cytognos.com/wp-content/uploads/newsletter-medtech3-min.png
END:VEVENT
END:VCALENDAR