BEGIN:VCALENDAR
VERSION:2.0
PRODID:-//Cytognos, S.L. - ECPv4.9.7//NONSGML v1.0//EN
CALSCALE:GREGORIAN
METHOD:PUBLISH
X-WR-CALNAME:Cytognos, S.L.
X-ORIGINAL-URL:https://www.cytognos.com
X-WR-CALDESC:Events for Cytognos, S.L.
BEGIN:VTIMEZONE
TZID:"Europe/Paris"
BEGIN:DAYLIGHT
TZOFFSETFROM:+0100
TZOFFSETTO:+0200
TZNAME:CEST
DTSTART:20200329T010000
END:DAYLIGHT
BEGIN:STANDARD
TZOFFSETFROM:+0200
TZOFFSETTO:+0100
TZNAME:CET
DTSTART:20201025T010000
END:STANDARD
END:VTIMEZONE
BEGIN:VEVENT
DTSTART;VALUE=DATE:20200603
DTEND;VALUE=DATE:20200604
DTSTAMP:20260425T204543
CREATED:20200525T173254Z
LAST-MODIFIED:20200527T113556Z
UID:11377-1591142400-1591228799@www.cytognos.com
SUMMARY:Webinar - Getting started with Infinicyt™ software with Biospecifix and Cytognos - (2020/06/03) - 2:30 PM AWST/HK
DESCRIPTION:In collaboration with Biospecifix\, our partner in Australia\, New Zealand and Hong Kong\, we are pleased to host a 1-hour webinar covering the basics of Infinicyt™ software. \nJoin us to discover Infinicyt™\, the flow cytometry data analysis software that allows to explore your data in multivariate\, standard\, efficient\, sensitive and reproducible way. \nBy attending this webinar you will learn how to: \n\nNavigate the software interface\nSet up your analysis template\nLook at the immunophenotype of your target population on different graphs\nDiscriminate between different populations through multidimensional analysis (APS Diagram)\nSet a population as a Reference Image for comparison\n\nSpeaker: Guadalupe Fernández\, Product Specialist\, Cytognos S.L. \n.fusion-button.button-1 .fusion-button-text\, .fusion-button.button-1 i {color:#bb0000;}.fusion-button.button-1 {border-width:1px;border-color:#bb0000;}.fusion-button.button-1 .fusion-button-icon-divider{border-color:#bb0000;}.fusion-button.button-1:hover .fusion-button-text\, .fusion-button.button-1:hover i\,.fusion-button.button-1:focus .fusion-button-text\, .fusion-button.button-1:focus i\,.fusion-button.button-1:active .fusion-button-text\, .fusion-button.button-1:active{color:#bb0000;}.fusion-button.button-1:hover\, .fusion-button.button-1:focus\, .fusion-button.button-1:active{border-width:1px;border-color:#bb0000;}.fusion-button.button-1:hover .fusion-button-icon-divider\, .fusion-button.button-1:hover .fusion-button-icon-divider\, .fusion-button.button-1:active .fusion-button-icon-divider{border-color:#bb0000;}.fusion-button.button-1 .fusion-button-text {text-transform:uppercase;}.fusion-button.button-1{width:auto;}Check your local time\n\n\n\n\n\nWebinar exclusive for the countries listed above. If you want to hear about this subjet\, register here.\n\n\n\n\n\n\n\n
URL:https://www.cytognos.com/event/webinar-getting-started-with-infinicyt-software-with-biospecifix-and-cytognos-2020-06-03-2-30-pm-awst/
CATEGORIES:Webinars
ATTACH;FMTTYPE=image/png:https://www.cytognos.com/wp-content/uploads/newsletter-biospecifix-min.png
END:VEVENT
END:VCALENDAR