BEGIN:VCALENDAR
VERSION:2.0
PRODID:-//Cytognos, S.L. - ECPv4.9.7//NONSGML v1.0//EN
CALSCALE:GREGORIAN
METHOD:PUBLISH
X-WR-CALNAME:Cytognos, S.L.
X-ORIGINAL-URL:https://www.cytognos.com
X-WR-CALDESC:Events for Cytognos, S.L.
BEGIN:VTIMEZONE
TZID:"Europe/Paris"
BEGIN:DAYLIGHT
TZOFFSETFROM:+0100
TZOFFSETTO:+0200
TZNAME:CEST
DTSTART:20190331T010000
END:DAYLIGHT
BEGIN:STANDARD
TZOFFSETFROM:+0200
TZOFFSETTO:+0100
TZNAME:CET
DTSTART:20191027T010000
END:STANDARD
END:VTIMEZONE
BEGIN:VEVENT
DTSTART;TZID="Europe/Paris":20190917T110000
DTEND;TZID="Europe/Paris":20190917T120000
DTSTAMP:20260425T185557
CREATED:20190829T064929Z
LAST-MODIFIED:20191105T094857Z
UID:5053-1568718000-1568721600@www.cytognos.com
SUMMARY:Webinar - Get started with Infinicyt™ software (2019/09/17)
DESCRIPTION:Infinicyt™ is a flow cytometry data analysis software that includes innovative tools for analysis\, integration and interpretation. It allows to explore your data in a multivariate\, standard\, efficient\, sensitive and reproducible way. \nBy attending our webinar you will learn how to: \n\nNavigate the software interface\nBuild your analysis template\nLook at the immunophenotype of your target population on different graphs\nDiscriminate between different populations through multidimensional analysis (APS Diagram)\nSet a population as a Reference Image for comparison\n\n
URL:https://www.cytognos.com/event/webinar-get-started-with-infinicyt-2019-09-17/
CATEGORIES:Webinars
ATTACH;FMTTYPE=image/jpeg:https://www.cytognos.com/wp-content/uploads/img-webinar-demo-2.jpg
END:VEVENT
END:VCALENDAR