BEGIN:VCALENDAR
VERSION:2.0
PRODID:-//Cytognos, S.L. - ECPv4.9.7//NONSGML v1.0//EN
CALSCALE:GREGORIAN
METHOD:PUBLISH
X-WR-CALNAME:Cytognos, S.L.
X-ORIGINAL-URL:https://www.cytognos.com
X-WR-CALDESC:Events for Cytognos, S.L.
BEGIN:VTIMEZONE
TZID:"Europe/Paris"
BEGIN:DAYLIGHT
TZOFFSETFROM:+0100
TZOFFSETTO:+0200
TZNAME:CEST
DTSTART:20200329T010000
END:DAYLIGHT
BEGIN:STANDARD
TZOFFSETFROM:+0200
TZOFFSETTO:+0100
TZNAME:CET
DTSTART:20201025T010000
END:STANDARD
END:VTIMEZONE
BEGIN:VEVENT
DTSTART;TZID="Europe/Paris":20200716T160000
DTEND;TZID="Europe/Paris":20200716T170000
DTSTAMP:20260425T223104
CREATED:20200709T095605Z
LAST-MODIFIED:20200709T115634Z
UID:11861-1594915200-1594918800@www.cytognos.com
SUMMARY:Webinar - Español - Novedades en Infinicyt™ 2.0.4 - (2020/07/16) - 4:00 PM CEST
DESCRIPTION:Mejore el cuidado del paciente y la eficiencia de su laboratorio clínico con el nuevo módulo de seguridad y trazabilidad. \nLas nuevas características de la versión 2.0.4 de Infinicyt™ son: \n\nControl de Acceso al software: asigne una contraseña y nombre a cada usuario y defina los permisos de cada uno.\nProteja sus archivos analizados mediante contraseñas.\nSeguimiento de “quién hizo qué y en qué momento” en el análisis.\nFirma electrónica de sus informes.\n\nEstas nuevas herramientas pueden ayudarle a cumplir los requisitos normativos y estándares de su laboratorio clínico (Regulación FDA 21 CFR Parte 11 y ISO 15189:2003). \nAdemás de una mejora en la herramienta de Análisis en Batch\, que ahora permite ejecutar secuencialmente múltiples archivos con las bases de datos EuroFlow™ disponibles. \n\n.fusion-button.button-1 .fusion-button-text\, .fusion-button.button-1 i {color:#bb0000;}.fusion-button.button-1 {border-width:1px;border-color:#bb0000;}.fusion-button.button-1 .fusion-button-icon-divider{border-color:#bb0000;}.fusion-button.button-1:hover .fusion-button-text\, .fusion-button.button-1:hover i\,.fusion-button.button-1:focus .fusion-button-text\, .fusion-button.button-1:focus i\,.fusion-button.button-1:active .fusion-button-text\, .fusion-button.button-1:active{color:#bb0000;}.fusion-button.button-1:hover\, .fusion-button.button-1:focus\, .fusion-button.button-1:active{border-width:1px;border-color:#bb0000;}.fusion-button.button-1:hover .fusion-button-icon-divider\, .fusion-button.button-1:hover .fusion-button-icon-divider\, .fusion-button.button-1:active .fusion-button-icon-divider{border-color:#bb0000;}.fusion-button.button-1 .fusion-button-text {text-transform:uppercase;}.fusion-button.button-1{width:auto;}Compruebe su hora local\n\n\n\n\n\n\n\n\n\n\n  \n\n\n\n\n\n\n\n
URL:https://www.cytognos.com/event/webinar-espanol-novedades-en-infinicyt-2-0-4-2020-07-16-400-pm-cest/
CATEGORIES:Webinars
ATTACH;FMTTYPE=image/png:https://www.cytognos.com/wp-content/uploads/2.0.4.-spanish-2-min.png
END:VEVENT
END:VCALENDAR