BEGIN:VCALENDAR
VERSION:2.0
PRODID:-//Cytognos, S.L. - ECPv4.9.7//NONSGML v1.0//EN
CALSCALE:GREGORIAN
METHOD:PUBLISH
X-WR-CALNAME:Cytognos, S.L.
X-ORIGINAL-URL:https://www.cytognos.com
X-WR-CALDESC:Events for Cytognos, S.L.
BEGIN:VTIMEZONE
TZID:"Europe/Helsinki"
BEGIN:DAYLIGHT
TZOFFSETFROM:+0200
TZOFFSETTO:+0300
TZNAME:EEST
DTSTART:20210328T010000
END:DAYLIGHT
BEGIN:STANDARD
TZOFFSETFROM:+0300
TZOFFSETTO:+0200
TZNAME:EET
DTSTART:20211031T010000
END:STANDARD
END:VTIMEZONE
BEGIN:VEVENT
DTSTART;TZID="Europe/Helsinki":20210929T170000
DTEND;TZID="Europe/Helsinki":20210929T180000
DTSTAMP:20260425T185659
CREATED:20210907T104528Z
LAST-MODIFIED:20220110T075125Z
UID:19222-1632934800-1632938400@www.cytognos.com
SUMMARY:Webinar - Dissecting the heterogeneity of Common Variable Immunodeficiencies using flow cytometry - 5 PM CEST
DESCRIPTION:Common Variable Immunodeficiency (CVID) is one of the most frequently diagnosed primary immunodeficiencies\, mainly in adults\, characterized by impaired production of antibodies and hypogammaglobulinemia\, resulting in increased susceptibility to infections. Flow cytometry is a very valuable technique in the diagnosis and classification of this disease. \nIn this webinar\, Martín Pérez Andrés\, PhD will explain: \n\nFlow cytometry methods for deep immune profiling.\nB-cell and T-cell defects in CVID patients.\nCorrelation of the immune phenotype with the clinical manifestations of CVID.\n\nMartín Pérez Andrés\, PhD is Professor of Immunology at the University of Salamanca. His research has been focused on the study of normal B differentiation and changes with age\, and the development of new methods for the diagnosis and classification of B cell pathologies\, including B cell neoplasms\, primary and secondary immunodeficiencies and autoimmunity. \n4 PM GMT + 1 (London\, UK)\n5 PM GMT + 2 (Madrid\, Spain)\n11 PM. GMT + 8 (Beijing\, China)\n1 AM GMT + 10 (Sydney\, Australia)\n12 AM GMT-3 (Rio de Janeiro\, Brazil)\n11 AM GMT-4 (New York\, NY\, USA)\n8 AM GMT-7 (Los Angeles\, CA\, USA) \n.fusion-button.button-1 .fusion-button-text\, .fusion-button.button-1 i {color:#bb0000;}.fusion-button.button-1 {border-width:1px;border-color:#bb0000;}.fusion-button.button-1 .fusion-button-icon-divider{border-color:#bb0000;}.fusion-button.button-1:hover .fusion-button-text\, .fusion-button.button-1:hover i\,.fusion-button.button-1:focus .fusion-button-text\, .fusion-button.button-1:focus i\,.fusion-button.button-1:active .fusion-button-text\, .fusion-button.button-1:active{color:#bb0000;}.fusion-button.button-1:hover\, .fusion-button.button-1:focus\, .fusion-button.button-1:active{border-width:1px;border-color:#bb0000;}.fusion-button.button-1:hover .fusion-button-icon-divider\, .fusion-button.button-1:hover .fusion-button-icon-divider\, .fusion-button.button-1:active .fusion-button-icon-divider{border-color:#bb0000;}.fusion-button.button-1 .fusion-button-text {text-transform:uppercase;}.fusion-button.button-1{width:auto;}Check your local time\n\n
URL:https://www.cytognos.com/event/webinar-dissecting-the-heterogeneity-of-common-variable-immunodeficiencies-using-flow-cytometry-5-pm-cest/
CATEGORIES:Webinars
ATTACH;FMTTYPE=image/png:https://www.cytognos.com/wp-content/uploads/martin3-min.png
END:VEVENT
END:VCALENDAR