BEGIN:VCALENDAR
VERSION:2.0
PRODID:-//Cytognos, S.L. - ECPv4.9.7//NONSGML v1.0//EN
CALSCALE:GREGORIAN
METHOD:PUBLISH
X-WR-CALNAME:Cytognos, S.L.
X-ORIGINAL-URL:https://www.cytognos.com
X-WR-CALDESC:Events for Cytognos, S.L.
BEGIN:VTIMEZONE
TZID:"Europe/Helsinki"
BEGIN:DAYLIGHT
TZOFFSETFROM:+0200
TZOFFSETTO:+0300
TZNAME:EEST
DTSTART:20210328T010000
END:DAYLIGHT
BEGIN:STANDARD
TZOFFSETFROM:+0300
TZOFFSETTO:+0200
TZNAME:EET
DTSTART:20211031T010000
END:STANDARD
END:VTIMEZONE
BEGIN:VEVENT
DTSTART;TZID="Europe/Helsinki":20210928T170000
DTEND;TZID="Europe/Helsinki":20210928T180000
DTSTAMP:20260425T184859
CREATED:20210907T115505Z
LAST-MODIFIED:20220110T075137Z
UID:19225-1632848400-1632852000@www.cytognos.com
SUMMARY:Webinar - Diseccionando la heterogeneidad de la Inmunodeficiencia Común Variable mediante citometría de flujo - 5 PM CEST
DESCRIPTION:La Inmunodeficiencia Común Variable (IDCV) es una de las inmunodeficiencias primarias más frecuentemente diagnosticadas\, que se caracteriza por la alteración de la producción de anticuerpos y la hipogammaglobulinemia\, lo que provoca una mayor susceptibilidad a las infecciones. La citometría de flujo es una técnica muy valiosa en el diagnóstico y clasificación de esta enfermedad. \nEn este webinar\, Martín Pérez Andrés\, PhD\, explicará: \n\nMétodos de citometría de flujo para la obtención de perfiles inmunológicos en profundidad.\nDefectos de las células B y T en pacientes con IDCV.\nCorrelación del inmunofenotipo con las manifestaciones clínicas de la IDCV.\n\nEl Dr. Martín Pérez Andrés\, es profesor titular de Inmunología en la Universidad de Salamanca. Su investigación ha estado centrada en el estudio de la diferenciación B normal\, los cambios con la edad y el desarrollo de nuevos métodos para el diagnóstico y clasificación de las patologías de los linfocitos B\, incluyendo neoplasias de células B\, inmunodeficiencias primarias y secundarias y autoinmunidad. \n4 PM GMT + 1 (Londres\, Reino Unido)\n5 PM GMT + 2 (Madrid\, España)\n11 PM. GMT + 8 (Pekín\, China)\n1 AM GMT + 10 (Sídney\, Australia)\n12 AM GMT-3 (Río de Janeiro\, Brasil)\n11 AM GMT-4 (Nueva York\, NY\, EE. UU.)\n8 AM GMT-7 (Los Ángeles\, CA\, EE. UU.) \n.fusion-button.button-1 .fusion-button-text\, .fusion-button.button-1 i {color:#bb0000;}.fusion-button.button-1 {border-width:1px;border-color:#bb0000;}.fusion-button.button-1 .fusion-button-icon-divider{border-color:#bb0000;}.fusion-button.button-1:hover .fusion-button-text\, .fusion-button.button-1:hover i\,.fusion-button.button-1:focus .fusion-button-text\, .fusion-button.button-1:focus i\,.fusion-button.button-1:active .fusion-button-text\, .fusion-button.button-1:active{color:#bb0000;}.fusion-button.button-1:hover\, .fusion-button.button-1:focus\, .fusion-button.button-1:active{border-width:1px;border-color:#bb0000;}.fusion-button.button-1:hover .fusion-button-icon-divider\, .fusion-button.button-1:hover .fusion-button-icon-divider\, .fusion-button.button-1:active .fusion-button-icon-divider{border-color:#bb0000;}.fusion-button.button-1 .fusion-button-text {text-transform:uppercase;}.fusion-button.button-1{width:auto;}Comprueba tu hora local\n\n
URL:https://www.cytognos.com/event/webinar-diseccionando-la-heterogeneidad-de-la-inmunodeficiencia-comun-variable-mediante-citometria-de-flujo-5-pm-cest/
CATEGORIES:Webinars
ATTACH;FMTTYPE=image/png:https://www.cytognos.com/wp-content/uploads/martin3-min.png
END:VEVENT
END:VCALENDAR