BEGIN:VCALENDAR
VERSION:2.0
PRODID:-//Cytognos, S.L. - ECPv4.9.7//NONSGML v1.0//EN
CALSCALE:GREGORIAN
METHOD:PUBLISH
X-WR-CALNAME:Cytognos, S.L.
X-ORIGINAL-URL:https://www.cytognos.com
X-WR-CALDESC:Events for Cytognos, S.L.
BEGIN:VTIMEZONE
TZID:"Europe/Paris"
BEGIN:DAYLIGHT
TZOFFSETFROM:+0100
TZOFFSETTO:+0200
TZNAME:CEST
DTSTART:20210328T010000
END:DAYLIGHT
BEGIN:STANDARD
TZOFFSETFROM:+0200
TZOFFSETTO:+0100
TZNAME:CET
DTSTART:20211031T010000
END:STANDARD
END:VTIMEZONE
BEGIN:VEVENT
DTSTART;VALUE=DATE:20210427
DTEND;VALUE=DATE:20210428
DTSTAMP:20260425T184551
CREATED:20210419T071732Z
LAST-MODIFIED:20210424T082542Z
UID:16979-1619481600-1619567999@www.cytognos.com
SUMMARY:Webinar - Clinical value of advanced software tools for the routine workflow in a pediatric center - 5 PM GMT
DESCRIPTION:Join us for a 1-hour webinar\nMinimal residual disease (MRD) status plays a crucial role in the treatment of acute lymphoblastic leukemia (ALL) and is currently used in most therapeutic protocols to guide the appropriate therapeutic decision. Therefore\, it is imperative that laboratories offer accurate and reliable results through well standardized technical processes by establishing rigorous operating procedures. \nIn this webinar you will learn how to perform differential diagnosis of acute leukemia\, evaluate ALL MRD and immunodeficiency\, and how to design and validate new panels. \nElaine Sobral da Costa\, MD\, currently head of the flow cytometry department at IPPMG-UFRJ develops her work on the research of new analysis methods for the diagnosis and follow-up of neoplastic diseases. Elaine is a member of the EuroFlow™ consortium and collaborates frequently with Prof. Alberto Orfao’s group in the University of Salamanca. She is currently Associate Professor at the Pediatric department of the UFRJ and permanent teacher of the Clinical Medicine Programme of the UFRJ. \n7 PM GMT+2 (Madrid\, Spain)\n7 PM GMT+2 (Amsterdam\, Netherlands)\n1 AM GMT+8 (Beijing\, China)\n3 AM GMT+10 (Sydney\, Australia)\n2 PM GMT-3 (Rio de Janeiro\, Brasil)\n1 PM GMT-4 (New York\, NY\, USA)\n10 AM GMT-7 (Los Angeles\, CA\, USA)\n5 PM GMT (London\, United Kingdom) \n.fusion-button.button-1 .fusion-button-text\, .fusion-button.button-1 i {color:#bb0000;}.fusion-button.button-1 {border-width:1px;border-color:#bb0000;}.fusion-button.button-1 .fusion-button-icon-divider{border-color:#bb0000;}.fusion-button.button-1:hover .fusion-button-text\, .fusion-button.button-1:hover i\,.fusion-button.button-1:focus .fusion-button-text\, .fusion-button.button-1:focus i\,.fusion-button.button-1:active .fusion-button-text\, .fusion-button.button-1:active{color:#bb0000;}.fusion-button.button-1:hover\, .fusion-button.button-1:focus\, .fusion-button.button-1:active{border-width:1px;border-color:#bb0000;}.fusion-button.button-1:hover .fusion-button-icon-divider\, .fusion-button.button-1:hover .fusion-button-icon-divider\, .fusion-button.button-1:active .fusion-button-icon-divider{border-color:#bb0000;}.fusion-button.button-1 .fusion-button-text {text-transform:uppercase;}.fusion-button.button-1{width:auto;}Check your local time\n\n\n
URL:https://www.cytognos.com/event/webinar-clinical-value-of-advanced-software-tools-for-the-routine-workflow-in-a-pediatric-center-5-pm-gmt/
CATEGORIES:Webinars
ATTACH;FMTTYPE=image/jpeg:https://www.cytognos.com/wp-content/uploads/elaine-abri21_2-min.jpg
END:VEVENT
END:VCALENDAR