BEGIN:VCALENDAR
VERSION:2.0
PRODID:-//Cytognos, S.L. - ECPv4.9.7//NONSGML v1.0//EN
CALSCALE:GREGORIAN
METHOD:PUBLISH
X-WR-CALNAME:Cytognos, S.L.
X-ORIGINAL-URL:https://www.cytognos.com
X-WR-CALDESC:Events for Cytognos, S.L.
BEGIN:VTIMEZONE
TZID:"Europe/Paris"
BEGIN:DAYLIGHT
TZOFFSETFROM:+0100
TZOFFSETTO:+0200
TZNAME:CEST
DTSTART:20210328T010000
END:DAYLIGHT
BEGIN:STANDARD
TZOFFSETFROM:+0200
TZOFFSETTO:+0100
TZNAME:CET
DTSTART:20211031T010000
END:STANDARD
END:VTIMEZONE
BEGIN:VEVENT
DTSTART;VALUE=DATE:20211026
DTEND;VALUE=DATE:20211028
DTSTAMP:20260425T172315
CREATED:20210827T112100Z
LAST-MODIFIED:20210831T093905Z
UID:19181-1635206400-1635379199@www.cytognos.com
SUMMARY:MetroFlow 2021
DESCRIPTION:Cytognos will participate at the virtual MetroFlow 2021 which will be offered in half-day sessions from October 26-27\, 2021. \nThe MetroFlow 2021 will feature scientific talks\, Corporate Member presentations and round table discussions covering data analysis\, full spectrum & conventional flow\, future of cell sorting and cytometry reagents. \nClick here to learn more about MetroFlow 2021. \nRegistration is free. \nContact info:\nIrene González\, Sales and Support Manager– USA & Canada (igonzalez@cytognos.com) \n
URL:https://www.cytognos.com/event/metroflow-2021/
CATEGORIES:Congresses and Meetings
ATTACH;FMTTYPE=image/png:https://www.cytognos.com/wp-content/uploads/metroflow-21-min.png
END:VEVENT
END:VCALENDAR