BEGIN:VCALENDAR
VERSION:2.0
PRODID:-//Cytognos, S.L. - ECPv4.9.7//NONSGML v1.0//EN
CALSCALE:GREGORIAN
METHOD:PUBLISH
X-WR-CALNAME:Cytognos, S.L.
X-ORIGINAL-URL:https://www.cytognos.com
X-WR-CALDESC:Events for Cytognos, S.L.
BEGIN:VTIMEZONE
TZID:"Europe/Paris"
BEGIN:DAYLIGHT
TZOFFSETFROM:+0100
TZOFFSETTO:+0200
TZNAME:CEST
DTSTART:20210328T010000
END:DAYLIGHT
BEGIN:STANDARD
TZOFFSETFROM:+0200
TZOFFSETTO:+0100
TZNAME:CET
DTSTART:20211031T010000
END:STANDARD
END:VTIMEZONE
BEGIN:VEVENT
DTSTART;VALUE=DATE:20210529
DTEND;VALUE=DATE:20210530
DTSTAMP:20260425T202409
CREATED:20210519T074316Z
LAST-MODIFIED:20210519T075410Z
UID:17360-1622246400-1622332799@www.cytognos.com
SUMMARY:Join us at the 11th Panhellenic Cytometry Conference!
DESCRIPTION:Cytognos and P Zafiropoulos S.A. are pleased to invite you to participate in the 11th Panhellenic Cytometry Conference\, organized by the Hellenic Society of Cytometry (Ελληνική Εταιρεία Κυτταρομετρίας). \nThis congress will cover the hot topics of flow cytometry that are relevant to each clinical laboratory. Check out the full program here. \nWe will contribute a presentation on Saturday\, of May 29th from 15.30 to 16.00 about the “Key points for the assessment of measurable residual disease in clinical practice”. MRD testing is one of the challenges clinical laboratories are currently facing: \n\nAre we getting the right sensitivity?\nWhat should we include in an MRD report?\nIs the quality of the sample adequate?\nAnd much more.\n\nPresentation: Key points for the assessment of measurable residual disease in clinical practice. \n.fusion-button.button-1 .fusion-button-text\, .fusion-button.button-1 i {color:#bb0000;}.fusion-button.button-1 {border-width:1px;border-color:#bb0000;}.fusion-button.button-1 .fusion-button-icon-divider{border-color:#bb0000;}.fusion-button.button-1:hover .fusion-button-text\, .fusion-button.button-1:hover i\,.fusion-button.button-1:focus .fusion-button-text\, .fusion-button.button-1:focus i\,.fusion-button.button-1:active .fusion-button-text\, .fusion-button.button-1:active{color:#bb0000;}.fusion-button.button-1:hover\, .fusion-button.button-1:focus\, .fusion-button.button-1:active{border-width:1px;border-color:#bb0000;}.fusion-button.button-1:hover .fusion-button-icon-divider\, .fusion-button.button-1:hover .fusion-button-icon-divider\, .fusion-button.button-1:active .fusion-button-icon-divider{border-color:#bb0000;}.fusion-button.button-1 .fusion-button-text {text-transform:uppercase;}.fusion-button.button-1{width:auto;}Register now\n
URL:https://www.cytognos.com/event/join-us-at-the-11th-panhellenic-cytometry-conference/
CATEGORIES:Congresses and Meetings
ATTACH;FMTTYPE=image/png:https://www.cytognos.com/wp-content/uploads/20210519094413_1621410253.png
END:VEVENT
END:VCALENDAR