BEGIN:VCALENDAR
VERSION:2.0
PRODID:-//Cytognos, S.L. - ECPv4.9.7//NONSGML v1.0//EN
CALSCALE:GREGORIAN
METHOD:PUBLISH
X-WR-CALNAME:Cytognos, S.L.
X-ORIGINAL-URL:https://www.cytognos.com
X-WR-CALDESC:Events for Cytognos, S.L.
BEGIN:VTIMEZONE
TZID:"Europe/Paris"
BEGIN:DAYLIGHT
TZOFFSETFROM:+0100
TZOFFSETTO:+0200
TZNAME:CEST
DTSTART:20210328T010000
END:DAYLIGHT
BEGIN:STANDARD
TZOFFSETFROM:+0200
TZOFFSETTO:+0100
TZNAME:CET
DTSTART:20211031T010000
END:STANDARD
END:VTIMEZONE
BEGIN:VEVENT
DTSTART;VALUE=DATE:20210706
DTEND;VALUE=DATE:20210710
DTSTAMP:20260425T202121
CREATED:20210607T150630Z
LAST-MODIFIED:20210923T144551Z
UID:18421-1625529600-1625875199@www.cytognos.com
SUMMARY:Immuno Week
DESCRIPTION:\n					\n						This 2021\, Cytognos is participating in the Online Immuno Week \nImmuno Week hosts four days of conferences\, each with a thematic focus for the immuno-oncology industry. It brings together the leading organizations working in the development of immuno-oncology therapies. \nConsult the full program here! \n.fusion-content-boxes-1 .heading .content-box-heading {color:#333333;}\n					.fusion-content-boxes-1 .fusion-content-box-hover .link-area-link-icon-hover .heading .content-box-heading\,\n					.fusion-content-boxes-1 .fusion-content-box-hover .link-area-link-icon-hover .heading .heading-link .content-box-heading\,\n					.fusion-content-boxes-1 .fusion-content-box-hover .link-area-box-hover .heading .content-box-heading\,\n					.fusion-content-boxes-1 .fusion-content-box-hover .link-area-box-hover .heading .heading-link .content-box-heading\,\n					.fusion-content-boxes-1 .fusion-content-box-hover .link-area-link-icon-hover.link-area-box .fusion-read-more\,\n					.fusion-content-boxes-1 .fusion-content-box-hover .link-area-link-icon-hover.link-area-box .fusion-read-more::after\,\n					.fusion-content-boxes-1 .fusion-content-box-hover .link-area-link-icon-hover.link-area-box .fusion-read-more::before\,\n					.fusion-content-boxes-1 .fusion-content-box-hover .fusion-read-more:hover:after\,\n					.fusion-content-boxes-1 .fusion-content-box-hover .fusion-read-more:hover:before\,\n					.fusion-content-boxes-1 .fusion-content-box-hover .fusion-read-more:hover\,\n					.fusion-content-boxes-1 .fusion-content-box-hover .link-area-box-hover.link-area-box .fusion-read-more\,\n					.fusion-content-boxes-1 .fusion-content-box-hover .link-area-box-hover.link-area-box .fusion-read-more::after\,\n					.fusion-content-boxes-1 .fusion-content-box-hover .link-area-box-hover.link-area-box .fusion-read-more::before\,\n					.fusion-content-boxes-1 .fusion-content-box-hover .link-area-link-icon-hover .icon .circle-no\,\n					.fusion-content-boxes-1 .heading .heading-link:hover .content-box-heading {\n						color: #333333;\n					}\n					.fusion-content-boxes-1 .fusion-content-box-hover .link-area-box-hover .icon .circle-no {\n						color: #333333 !important;\n					}.fusion-content-boxes-1 .fusion-content-box-hover .link-area-box.link-area-box-hover .fusion-content-box-button {background: #f5f5f5;color: #bb0000;}.fusion-content-boxes-1 .fusion-content-box-hover .link-area-box.link-area-box-hover .fusion-content-box-button .fusion-button-text {color: #bb0000;}\n					.fusion-content-boxes-1 .fusion-content-box-hover .link-area-link-icon-hover .heading .icon > span {\n						background-color: #333333 !important;\n					}\n					.fusion-content-boxes-1 .fusion-content-box-hover .link-area-box-hover .heading .icon > span {\n						border-color: #333333 !important;\n					}Download one of our available Posters\, White Papers and Brochures\n						.fusion-content-boxes-1 .fusion-content-box-hover .heading-link:hover .icon i.circle-yes\,\n						.fusion-content-boxes-1 .fusion-content-box-hover .link-area-box:hover .heading-link .icon i.circle-yes\,\n						.fusion-content-boxes-1 .fusion-content-box-hover .link-area-link-icon-hover .heading .icon i.circle-yes\,\n						.fusion-content-boxes-1 .fusion-content-box-hover .link-area-box-hover .heading .icon i.circle-yes {\n							background-color: #333333 !important;\n							border-color: #333333 !important;\n						}As CAR-T cells have demonstrated their effectiveness in oncological immunotherapy\, Cytognos would like to present a new 7-colour panel for the identification of different subpopulations of naïve and memory T-cells (T cell subsets tube) \n\n\n					\n				\n					\n						Come to our talk on Day 1- July 6th \nOn Tuesday July 6th from 14:40h to 15:00h we will hold the presentation “T-cell inmmunotherapy evaluation by flow cytometry” \nThis presentation will cover the following topics \n\nImportance of immunotherapy evaluation by flow cytometry\nApplicability of T- cell subsets assessment in CAR-T cells immunotherapy\nFlow cytometry solution for the identification of different subpopulations of naïve and memory T-cells\n\n\n\n					\n				\n					\n						The session will be presented by our colleague Dhanraj Thaker\, MSc. \nDan\, did his Bachelors in Biomedical Science in London Kingston University\, UK and later has completed his Masters in Clinical Chemistry in Biomedical Science\, at the University of Nottingham Trent UK. During this time\, he has also achieved a Specialist Diploma in Clinical Immunology in combination with an Advanced Specialist Biomedical Science role in Pathology Laboratories as the Flow Cytometry Lead. \nHe has taken part in multiple service improvement projects to develop and streamline Flow Cytometry services in the Midlands\, where this was presented in previous ESCCA and UK NEQAS conferences. Currently he works as a Flow Technical and Product Specialist at Cytognos – Salamanca\, Spain for UK and Ireland. \n\n\n					\n				\n					\n						\n\n					\n				 \n
URL:https://www.cytognos.com/event/immuno-week/
CATEGORIES:Congresses and Meetings
ATTACH;FMTTYPE=image/png:https://www.cytognos.com/wp-content/uploads/inmuno-week-21-min.png
END:VEVENT
END:VCALENDAR