BEGIN:VCALENDAR
VERSION:2.0
PRODID:-//Cytognos, S.L. - ECPv4.9.7//NONSGML v1.0//EN
CALSCALE:GREGORIAN
METHOD:PUBLISH
X-WR-CALNAME:Cytognos, S.L.
X-ORIGINAL-URL:https://www.cytognos.com
X-WR-CALDESC:Events for Cytognos, S.L.
BEGIN:VTIMEZONE
TZID:"Europe/Paris"
BEGIN:DAYLIGHT
TZOFFSETFROM:+0100
TZOFFSETTO:+0200
TZNAME:CEST
DTSTART:20210328T010000
END:DAYLIGHT
BEGIN:STANDARD
TZOFFSETFROM:+0200
TZOFFSETTO:+0100
TZNAME:CET
DTSTART:20211031T010000
END:STANDARD
END:VTIMEZONE
BEGIN:VEVENT
DTSTART;VALUE=DATE:20211109
DTEND;VALUE=DATE:20211212
DTSTAMP:20260425T203300
CREATED:20211022T083723Z
LAST-MODIFIED:20211026T095631Z
UID:19249-1636416000-1639267199@www.cytognos.com
SUMMARY:II Congreso Virtual Iberoamericano de Citometría de Flujo
DESCRIPTION:Cytognos te invita a participar en el segundo congreso de la red iberoamericana de citometría de flujo\, Latinflow 2021. En esta ocasión\, el evento se retransmitirá de forma simultánea a través de Facebook\, YouTube y Twitter. Más información aquí. \nEl congreso se realizará del 9 al 11 de noviembre y esta será la temática de cada jornada: \n📅  Día 1: Ciencias aplicadas: biotecnología\, agricultura\, veterinaria y medio ambiente \n📅  Día 2: Citometría clínica \n📅  Día 3: Inmunología y terapia celular \nCytognos estará presente en la jornada de Citometría Clínica\, el día 10 de noviembre a las 10:20 AM (GTM -6)\, con la charla presentada por nuestra compañera Macarena Izquierdo: \n“¿Por qué necesitamos un análisis automatizado en nuestros estudios de citometría de flujo?” \nConsulta toda la información acerca del II Congreso Virtual Iberoamericano de Citometría de Flujo aquí. \nContact info: \nMacarena Izquierdo Peyrallo\, Flow Technical and Product Specialist México (mizquierdo@cytognos.com) \n
URL:https://www.cytognos.com/event/ii-congreso-virtual-iberoamericano-de-citometria-de-flujo/
CATEGORIES:Congresses and Meetings
ATTACH;FMTTYPE=image/png:https://www.cytognos.com/wp-content/uploads/latinflow-2021-min.png
END:VEVENT
END:VCALENDAR