BEGIN:VCALENDAR
VERSION:2.0
PRODID:-//Cytognos, S.L. - ECPv4.9.7//NONSGML v1.0//EN
CALSCALE:GREGORIAN
METHOD:PUBLISH
X-WR-CALNAME:Cytognos, S.L.
X-ORIGINAL-URL:https://www.cytognos.com
X-WR-CALDESC:Events for Cytognos, S.L.
BEGIN:VTIMEZONE
TZID:"Europe/Paris"
BEGIN:DAYLIGHT
TZOFFSETFROM:+0100
TZOFFSETTO:+0200
TZNAME:CEST
DTSTART:20210328T010000
END:DAYLIGHT
BEGIN:STANDARD
TZOFFSETFROM:+0200
TZOFFSETTO:+0100
TZNAME:CET
DTSTART:20211031T010000
END:STANDARD
END:VTIMEZONE
BEGIN:VEVENT
DTSTART;VALUE=DATE:20211008
DTEND;VALUE=DATE:20211013
DTSTAMP:20260425T170041
CREATED:20210827T111235Z
LAST-MODIFIED:20210831T093950Z
UID:19178-1633651200-1634083199@www.cytognos.com
SUMMARY:ICCS 2021 - 36th International Clinical Cytometry Meeting & Course
DESCRIPTION:Cytognos is attending the ICCS 2021 – the 36th International Clinical Cytometry Meeting & Course which will be offered both in-person at the Hyatt Regency Baltimore Inner Harbor Hotel and virtually (remote access) from October 8-12\, 2021. \nThe ICCS 2021 Meeting & Course will help participants increase their knowledge of current tools and technologies available for patient sample analysis\, better understand the accepted methodologies and benchmarks for patient sample analysis and diagnosis\, and to increase their competence in using analytical software applications. \nClick here to learn more about the ICCS 2021 Meeting & Course. \n.fusion-button.button-1 .fusion-button-text\, .fusion-button.button-1 i {color:#bb0000;}.fusion-button.button-1 {border-width:1px;border-color:#bb0000;}.fusion-button.button-1 .fusion-button-icon-divider{border-color:#bb0000;}.fusion-button.button-1:hover .fusion-button-text\, .fusion-button.button-1:hover i\,.fusion-button.button-1:focus .fusion-button-text\, .fusion-button.button-1:focus i\,.fusion-button.button-1:active .fusion-button-text\, .fusion-button.button-1:active{color:#bb0000;}.fusion-button.button-1:hover\, .fusion-button.button-1:focus\, .fusion-button.button-1:active{border-width:1px;border-color:#bb0000;}.fusion-button.button-1:hover .fusion-button-icon-divider\, .fusion-button.button-1:hover .fusion-button-icon-divider\, .fusion-button.button-1:active .fusion-button-icon-divider{border-color:#bb0000;}.fusion-button.button-1 .fusion-button-text {text-transform:uppercase;}.fusion-button.button-1{width:auto;}Register now\n  \nContact info:\nIrene González\, Sales and Support Manager– USA & Canada (igonzalez@cytognos.com) \n
URL:https://www.cytognos.com/event/iccs-2021-36th-international-clinical-cytometry-meeting-course/
CATEGORIES:Congresses and Meetings
ATTACH;FMTTYPE=image/jpeg:https://www.cytognos.com/wp-content/uploads/ICCS-21-min.jpg
END:VEVENT
END:VCALENDAR