BEGIN:VCALENDAR
VERSION:2.0
PRODID:-//Cytognos, S.L. - ECPv4.9.7//NONSGML v1.0//EN
CALSCALE:GREGORIAN
METHOD:PUBLISH
X-WR-CALNAME:Cytognos, S.L.
X-ORIGINAL-URL:https://www.cytognos.com
X-WR-CALDESC:Events for Cytognos, S.L.
BEGIN:VTIMEZONE
TZID:"Europe/Paris"
BEGIN:DAYLIGHT
TZOFFSETFROM:+0100
TZOFFSETTO:+0200
TZNAME:CEST
DTSTART:20190331T010000
END:DAYLIGHT
BEGIN:STANDARD
TZOFFSETFROM:+0200
TZOFFSETTO:+0100
TZNAME:CET
DTSTART:20191027T010000
END:STANDARD
END:VTIMEZONE
BEGIN:VEVENT
DTSTART;VALUE=DATE:20191004
DTEND;VALUE=DATE:20191009
DTSTAMP:20260425T184201
CREATED:20190711T124333Z
LAST-MODIFIED:20190927T123800Z
UID:3420-1570147200-1570579199@www.cytognos.com
SUMMARY:ICCS 2019\, the 34th International Clinical Cytometry Meeting & Course.
DESCRIPTION:Meet with Cytognos team and learn about our Next Generation Flow (NGF) solution for hemato oncology applications. \nContact info:\nIrene González\, Market Development and Support – USA & Canada (igonzalez@cytognos.com). \n\nAre you coming?\nIf you are interested in receiving more information or talking with us during your visit to the congress\, please leave us the information so that we are prepared. \nName*CountryAfghanistanAlbaniaAlgeriaAmerican SamoaAndorraAngolaAnguillaAntarcticaAntigua And BarbudaArgentinaArmeniaArubaAustraliaAustriaAzerbaijanBahamasBahrainBangladeshBarbadosBelarusBelgiumBelizeBeninBermudaBhutanBoliviaBosnia And HerzegovinaBotswanaBouvet IslandBrazilBritish Indian Ocean TerritoryBrunei DarussalamBulgariaBurkina FasoBurundiCambodiaCameroonCanadaCape VerdeCayman IslandsCentral African RepublicChadChileChinaChristmas IslandCocos (Keeling) IslandsColombiaComorosCongoCongo\, The Democratic Republic Of TheCook IslandsCosta RicaCote D'IvoireCroatia (Local Name: Hrvatska)CubaCyprusCzech RepublicDenmarkDjiboutiDominicaDominican RepublicEast TimorEcuadorEgyptEl SalvadorEquatorial GuineaEritreaEstoniaEthiopiaFalkland Islands (Malvinas)Faroe IslandsFijiFinlandFranceFrance\, MetropolitanFrench GuianaFrench PolynesiaFrench Southern TerritoriesGabonGambiaGeorgiaGermanyGhanaGibraltarGreeceGreenlandGrenadaGuadeloupeGuamGuatemalaGuineaGuinea-BissauGuyanaHaitiHeard And Mc Donald IslandsHoly See (Vatican City State)HondurasHong KongHungaryIcelandIndiaIndonesiaIran (Islamic Republic Of)IraqIrelandIsraelItalyJamaicaJapanJordanKazakhstanKenyaKiribatiKorea\, Democratic People's Republic OfKorea\, Republic OfKuwaitKyrgyzstanLao People's Democratic RepublicLatviaLebanonLesothoLiberiaLibyan Arab JamahiriyaLiechtensteinLithuaniaLuxembourgMacauMacedonia\, Former Yugoslav Republic OfMadagascarMalawiMalaysiaMaldivesMaliMaltaMarshall IslandsMartiniqueMauritaniaMauritiusMayotteMexicoMicronesia\, Federated States OfMoldova\, Republic OfMonacoMongoliaMontserratMoroccoMozambiqueMyanmarNamibiaNauruNepalNetherlandsNetherlands AntillesNew CaledoniaNew ZealandNicaraguaNigerNigeriaNiueNorfolk IslandNorthern Mariana IslandsNorwayOmanPakistanPalauPanamaPapua New GuineaParaguayPeruPhilippinesPitcairnPolandPortugalPuerto RicoQatarReunionRomaniaRussian FederationRwandaSaint Kitts And NevisSaint LuciaSaint Vincent And The GrenadinesSamoaSan MarinoSao Tome And PrincipeSaudi ArabiaSenegalSeychellesSierra LeoneSingaporeSlovakia (Slovak Republic)SloveniaSolomon IslandsSomaliaSouth AfricaSouth Georgia\, South Sandwich IslandsSpainSri LankaSt. HelenaSt. Pierre And MiquelonSudanSurinameSvalbard And Jan Mayen IslandsSwazilandSwedenSwitzerlandSyrian Arab RepublicTaiwanTajikistanTanzania\, United Republic OfThailandTogoTokelauTongaTrinidad And TobagoTunisiaTurkeyTurkmenistanTurks And Caicos IslandsTuvaluUgandaUkraineUnited Arab EmiratesUnited KingdomUnited StatesUnited States Minor Outlying IslandsUruguayUzbekistanVanuatuVenezuelaVietnamVirgin Islands (British)Virgin Islands (U.S.)Wallis And Futuna IslandsWestern SaharaYemenYugoslaviaZambiaZimbabweEmail address*Institution*Select congress or meeting*Please selectDo you have any other information or comment for us? When would you like to meet? What are your interests?Cytognos is committed to keeping your personal data protected and secure. More information on how we process your personal data can be found in our privacy notice and our cookie policy.Keep in touch with us:Yes\, I would like to receive relevant information and offers by email about BD solutions\, events\, activities and services. I know I can withdraw my consent at any time.Please enable JavaScript to submit this form.SendThis field should be left blank\n
URL:https://www.cytognos.com/event/iccs-2019/
LOCATION:Atlanta\, USA\, Atlanta\, GA\, United States
CATEGORIES:Congresses and Meetings
ATTACH;FMTTYPE=image/jpeg:https://www.cytognos.com/wp-content/uploads/ICCS-2019-2.jpg
END:VEVENT
END:VCALENDAR