BEGIN:VCALENDAR
VERSION:2.0
PRODID:-//Cytognos, S.L. - ECPv4.9.7//NONSGML v1.0//EN
CALSCALE:GREGORIAN
METHOD:PUBLISH
X-WR-CALNAME:Cytognos, S.L.
X-ORIGINAL-URL:https://www.cytognos.com
X-WR-CALDESC:Events for Cytognos, S.L.
BEGIN:VTIMEZONE
TZID:"Europe/Paris"
BEGIN:DAYLIGHT
TZOFFSETFROM:+0100
TZOFFSETTO:+0200
TZNAME:CEST
DTSTART:20210328T010000
END:DAYLIGHT
BEGIN:STANDARD
TZOFFSETFROM:+0200
TZOFFSETTO:+0100
TZNAME:CET
DTSTART:20211031T010000
END:STANDARD
END:VTIMEZONE
BEGIN:VEVENT
DTSTART;VALUE=DATE:20211206
DTEND;VALUE=DATE:20211208
DTSTAMP:20260425T170026
CREATED:20210827T120639Z
LAST-MODIFIED:20210830T110516Z
UID:19183-1638748800-1638921599@www.cytognos.com
SUMMARY:Global Engage Flow Cytometry Congress
DESCRIPTION:Cytognos will be present at the Global Engage Flow Cytometry Congress which will be offered in-person at the Heathrow Marriot in London from December 6-7\, 2021. \nThe Global Engage Flow Cytometry Congress will focus on new approaches in hydrodynamic and acoustic-assisted focusing and case studies will describe the advances being made in the application of Flow Cytometry in oncology\, haematological diseases\, and immuno and neuro-inflammation as well as cell sorting. \nRead here to learn more about Global Engage Flow Cytometry Congress. \n.fusion-button.button-1 .fusion-button-text\, .fusion-button.button-1 i {color:#bb0000;}.fusion-button.button-1 {border-width:1px;border-color:#bb0000;}.fusion-button.button-1 .fusion-button-icon-divider{border-color:#bb0000;}.fusion-button.button-1:hover .fusion-button-text\, .fusion-button.button-1:hover i\,.fusion-button.button-1:focus .fusion-button-text\, .fusion-button.button-1:focus i\,.fusion-button.button-1:active .fusion-button-text\, .fusion-button.button-1:active{color:#bb0000;}.fusion-button.button-1:hover\, .fusion-button.button-1:focus\, .fusion-button.button-1:active{border-width:1px;border-color:#bb0000;}.fusion-button.button-1:hover .fusion-button-icon-divider\, .fusion-button.button-1:hover .fusion-button-icon-divider\, .fusion-button.button-1:active .fusion-button-icon-divider{border-color:#bb0000;}.fusion-button.button-1 .fusion-button-text {text-transform:uppercase;}.fusion-button.button-1{width:auto;}Register now\n  \nContact info: \nChris Wilson\, Key Account Manager UK and Ireland (cwilson@cytognos.com) \nDan Thaker\, Flow Technical and Product Specialist UK and Ireland (dathaker@cytognos.com) \n
URL:https://www.cytognos.com/event/global-engage-flow-cytometry-congress/
CATEGORIES:Congresses and Meetings
ATTACH;FMTTYPE=image/jpeg:https://www.cytognos.com/wp-content/uploads/Global-Engage-21-min.jpg
END:VEVENT
END:VCALENDAR