BEGIN:VCALENDAR
VERSION:2.0
PRODID:-//Cytognos, S.L. - ECPv4.9.7//NONSGML v1.0//EN
CALSCALE:GREGORIAN
METHOD:PUBLISH
X-WR-CALNAME:Cytognos, S.L.
X-ORIGINAL-URL:https://www.cytognos.com
X-WR-CALDESC:Events for Cytognos, S.L.
BEGIN:VTIMEZONE
TZID:"Europe/Paris"
BEGIN:DAYLIGHT
TZOFFSETFROM:+0100
TZOFFSETTO:+0200
TZNAME:CEST
DTSTART:20200329T010000
END:DAYLIGHT
BEGIN:STANDARD
TZOFFSETFROM:+0200
TZOFFSETTO:+0100
TZNAME:CET
DTSTART:20201025T010000
END:STANDARD
END:VTIMEZONE
BEGIN:VEVENT
DTSTART;VALUE=DATE:20201014
DTEND;VALUE=DATE:20201018
DTSTAMP:20260425T165352
CREATED:20191219T143541Z
LAST-MODIFIED:20191219T143541Z
UID:6375-1602633600-1602979199@www.cytognos.com
SUMMARY:ESID 2020\, 19th Biennial Meeting of the European Society for Immunodeficiencies
DESCRIPTION:Meet with Cytognos team and learn about our Next Generation Flow (NGF) solution for immunology applications. \nContact info:\nChristopher Wilson (cwilson@cytognos.com) \n
URL:https://www.cytognos.com/event/esid-2020/
LOCATION:Birmingham\, Birmingham\, United Kingdom
CATEGORIES:Congresses and Meetings
ATTACH;FMTTYPE=image/jpeg:https://www.cytognos.com/wp-content/uploads/Birmingham_town_hall-min.jpg
END:VEVENT
END:VCALENDAR