BEGIN:VCALENDAR
VERSION:2.0
PRODID:-//Cytognos, S.L. - ECPv4.9.7//NONSGML v1.0//EN
CALSCALE:GREGORIAN
METHOD:PUBLISH
X-WR-CALNAME:Cytognos, S.L.
X-ORIGINAL-URL:https://www.cytognos.com
X-WR-CALDESC:Events for Cytognos, S.L.
BEGIN:VTIMEZONE
TZID:"Europe/Paris"
BEGIN:DAYLIGHT
TZOFFSETFROM:+0100
TZOFFSETTO:+0200
TZNAME:CEST
DTSTART:20210328T010000
END:DAYLIGHT
BEGIN:STANDARD
TZOFFSETFROM:+0200
TZOFFSETTO:+0100
TZNAME:CET
DTSTART:20211031T010000
END:STANDARD
END:VTIMEZONE
BEGIN:VEVENT
DTSTART;VALUE=DATE:20210422
DTEND;VALUE=DATE:20210425
DTSTAMP:20260425T185438
CREATED:20210204T124615Z
LAST-MODIFIED:20220531T155328Z
UID:15772-1619049600-1619308799@www.cytognos.com
SUMMARY:ESCCA Virtual Conference 2021
DESCRIPTION:\n					\n						@media only screen and (max-width:800px) {.fusion-title.fusion-title-1{margin-top:0px!important;margin-bottom:10px!important;}}Welcome to our ESCCA 2021 content site We would like to thank you for your visit and invite you to check out the information and content available below: \n.modal-1 .modal-header\, .modal-1 .modal-footer{border-color:#ebebeb;}×Request an Omnicyt™ Online Demonstration[ultimate_gdpr_protection level=4]\n\n[/ultimate_gdpr_protection]\n\n					\n				\n					\n						.fusion-content-boxes-1 .heading .content-box-heading {color:#333333;}\n					.fusion-content-boxes-1 .fusion-content-box-hover .link-area-link-icon-hover .heading .content-box-heading\,\n					.fusion-content-boxes-1 .fusion-content-box-hover .link-area-link-icon-hover .heading .heading-link .content-box-heading\,\n					.fusion-content-boxes-1 .fusion-content-box-hover .link-area-box-hover .heading .content-box-heading\,\n					.fusion-content-boxes-1 .fusion-content-box-hover .link-area-box-hover .heading .heading-link .content-box-heading\,\n					.fusion-content-boxes-1 .fusion-content-box-hover .link-area-link-icon-hover.link-area-box .fusion-read-more\,\n					.fusion-content-boxes-1 .fusion-content-box-hover .link-area-link-icon-hover.link-area-box .fusion-read-more::after\,\n					.fusion-content-boxes-1 .fusion-content-box-hover .link-area-link-icon-hover.link-area-box .fusion-read-more::before\,\n					.fusion-content-boxes-1 .fusion-content-box-hover .fusion-read-more:hover:after\,\n					.fusion-content-boxes-1 .fusion-content-box-hover .fusion-read-more:hover:before\,\n					.fusion-content-boxes-1 .fusion-content-box-hover .fusion-read-more:hover\,\n					.fusion-content-boxes-1 .fusion-content-box-hover .link-area-box-hover.link-area-box .fusion-read-more\,\n					.fusion-content-boxes-1 .fusion-content-box-hover .link-area-box-hover.link-area-box .fusion-read-more::after\,\n					.fusion-content-boxes-1 .fusion-content-box-hover .link-area-box-hover.link-area-box .fusion-read-more::before\,\n					.fusion-content-boxes-1 .fusion-content-box-hover .link-area-link-icon-hover .icon .circle-no\,\n					.fusion-content-boxes-1 .heading .heading-link:hover .content-box-heading {\n						color: #333333;\n					}\n					.fusion-content-boxes-1 .fusion-content-box-hover .link-area-box-hover .icon .circle-no {\n						color: #333333 !important;\n					}.fusion-content-boxes-1 .fusion-content-box-hover .link-area-box.link-area-box-hover .fusion-content-box-button {background: #f5f5f5;color: #bb0000;}.fusion-content-boxes-1 .fusion-content-box-hover .link-area-box.link-area-box-hover .fusion-content-box-button .fusion-button-text {color: #bb0000;}\n					.fusion-content-boxes-1 .fusion-content-box-hover .link-area-link-icon-hover .heading .icon > span {\n						background-color: #333333 !important;\n					}\n					.fusion-content-boxes-1 .fusion-content-box-hover .link-area-box-hover .heading .icon > span {\n						border-color: #333333 !important;\n					}Zoom Room Recordings\n						.fusion-content-boxes-1 .fusion-content-box-hover .heading-link:hover .icon i.circle-yes\,\n						.fusion-content-boxes-1 .fusion-content-box-hover .link-area-box:hover .heading-link .icon i.circle-yes\,\n						.fusion-content-boxes-1 .fusion-content-box-hover .link-area-link-icon-hover .heading .icon i.circle-yes\,\n						.fusion-content-boxes-1 .fusion-content-box-hover .link-area-box-hover .heading .icon i.circle-yes {\n							background-color: #333333 !important;\n							border-color: #333333 !important;\n						}\n\n					\n				\n					\n						@media only screen and (max-width:800px) {.fusion-title.fusion-title-2{margin-top:0px!important;margin-bottom:10px!important;}}Come to our Scientific Presentation on Minimal Residual Disease Assessment On Thursday April 23rd from 12:05 to 12:35 we will hold the presentation “State-of-the-art reporting for measurable residual disease assessment”. \nYou can find it in the ESCCA Scientific Programme as “IPP03: ESCCA Industrial Partner Presentation 3”. \nThe session will be presented by our colleague María Rodríguez Martín\, Product Specialist. \n\n\n					\n				\n					\n						@media only screen and (max-width:800px) {.fusion-title.fusion-title-3{margin-top:0px!important;margin-bottom:10px!important;}}Visit our Zoom Sponsor RoomIn our Zoom Sponsor Room we have a arranged a full-day agenda so that you can join us a different times in order to watch our content\, have a brief conversation with us or ask us any question you have. Check out the recordings and schedule below: \n#wrapper .fusion-tabs.fusion-tabs-1.clean .nav-tabs li a{border-color:#ebeaea;}.fusion-tabs.fusion-tabs-1 .nav-tabs li a{background-color:#ebeaea;}.fusion-tabs.fusion-tabs-1 .nav-tabs li.active a\,.fusion-tabs.fusion-tabs-1 .nav-tabs li.active a:hover\,.fusion-tabs.fusion-tabs-1 .nav-tabs li.active a:focus{background-color:#ffffff;}.fusion-tabs.fusion-tabs-1 .nav-tabs li a:hover{background-color:#ffffff;border-top-color:#ffffff;}.fusion-tabs.fusion-tabs-1 .tab-pane{background-color:#ffffff;}.fusion-tabs.fusion-tabs-1 .nav\,.fusion-tabs.fusion-tabs-1 .nav-tabs\,.fusion-tabs.fusion-tabs-1 .tab-content .tab-pane{border-color:#ebeaea;}Thursday\, April 22nd Friday\, April 23rdThursday\, April 22nd \n\nFriday\, April 23rd\n\n\n\n					\n				 \n
URL:https://www.cytognos.com/event/escca-2021/
CATEGORIES:Congresses and Meetings
ATTACH;FMTTYPE=image/jpeg:https://www.cytognos.com/wp-content/uploads/escca-2021-header-min.jpeg
END:VEVENT
END:VCALENDAR