BEGIN:VCALENDAR
VERSION:2.0
PRODID:-//Cytognos, S.L. - ECPv4.9.7//NONSGML v1.0//EN
CALSCALE:GREGORIAN
METHOD:PUBLISH
X-WR-CALNAME:Cytognos, S.L.
X-ORIGINAL-URL:https://www.cytognos.com
X-WR-CALDESC:Events for Cytognos, S.L.
BEGIN:VTIMEZONE
TZID:"Europe/Paris"
BEGIN:DAYLIGHT
TZOFFSETFROM:+0100
TZOFFSETTO:+0200
TZNAME:CEST
DTSTART:20210328T010000
END:DAYLIGHT
BEGIN:STANDARD
TZOFFSETFROM:+0200
TZOFFSETTO:+0100
TZNAME:CET
DTSTART:20211031T010000
END:STANDARD
END:VTIMEZONE
BEGIN:VEVENT
DTSTART;VALUE=DATE:20211108
DTEND;VALUE=DATE:20211205
DTSTAMP:20260425T185520
CREATED:20210830T101300Z
LAST-MODIFIED:20210830T110501Z
UID:19206-1636329600-1638662399@www.cytognos.com
SUMMARY:e-Flow Colombia Modulo 7
DESCRIPTION:Este 2021\, Cytognos estará colaborando en el programa de formación virtual organizado por la Corporación Académica Ciencias Básicas Biomédicas y la Corporación Vedas CII. En esta formación se integran las últimas novedades de la citometría de flujo\, de la mano de expertos internacionales. \n\nCurso de educación continua con Certificación Universitaria\nPrograma dirigido a estudiantes y profesionales de áreas de ciencias de la vida\, la clínica y la ingeniería\nDocentes internacionales que pertenecen a la Red Iberoamericana de Citometría de Flujo\nCurso online\n7 sesiones del 10 de mayo al 30 de noviembre\n\nNosotros impartiremos dos sesiones en las que te enseñaremos técnicas y trucos sobre el procesamiento de alta sensibilidad de muestras de sangre para el estudio de células tumorales circulantes. Además\, te enseñaremos a usar herramientas de análisis básicas que te permitan un estudio rápido de tus muestras y herramientas más avanzadas que te permitirán hacer análisis multidimensionales completos. \n\nCurso 3: Aproximación al análisis de datos\nCurso 7: Aplicación – La citometría de flujo en la clínica\n\n¡No te pierdas este programa virtual de formación! Consulta el programa y más información aquí. \n.fusion-button.button-1 .fusion-button-text\, .fusion-button.button-1 i {color:#bb0000;}.fusion-button.button-1 {border-width:1px;border-color:#bb0000;}.fusion-button.button-1 .fusion-button-icon-divider{border-color:#bb0000;}.fusion-button.button-1:hover .fusion-button-text\, .fusion-button.button-1:hover i\,.fusion-button.button-1:focus .fusion-button-text\, .fusion-button.button-1:focus i\,.fusion-button.button-1:active .fusion-button-text\, .fusion-button.button-1:active{color:#bb0000;}.fusion-button.button-1:hover\, .fusion-button.button-1:focus\, .fusion-button.button-1:active{border-width:1px;border-color:#bb0000;}.fusion-button.button-1:hover .fusion-button-icon-divider\, .fusion-button.button-1:hover .fusion-button-icon-divider\, .fusion-button.button-1:active .fusion-button-icon-divider{border-color:#bb0000;}.fusion-button.button-1 .fusion-button-text {text-transform:uppercase;}.fusion-button.button-1{width:auto;}Regístrese ahora\n  \nContact info: \nMacarena Izquierdo Peyrallo\, Flow Technical and Product Specialist Colombia (mizquierdo@cytognos.com) \n
URL:https://www.cytognos.com/event/e-flow-colombia-modulo-7/
CATEGORIES:Congresses and Meetings
ATTACH;FMTTYPE=image/png:https://www.cytognos.com/wp-content/uploads/gzj5h-min.png
END:VEVENT
END:VCALENDAR