BEGIN:VCALENDAR
VERSION:2.0
PRODID:-//Cytognos, S.L. - ECPv4.9.7//NONSGML v1.0//EN
CALSCALE:GREGORIAN
METHOD:PUBLISH
X-WR-CALNAME:Cytognos, S.L.
X-ORIGINAL-URL:https://www.cytognos.com
X-WR-CALDESC:Events for Cytognos, S.L.
BEGIN:VTIMEZONE
TZID:"Europe/Paris"
BEGIN:DAYLIGHT
TZOFFSETFROM:+0100
TZOFFSETTO:+0200
TZNAME:CEST
DTSTART:20210328T010000
END:DAYLIGHT
BEGIN:STANDARD
TZOFFSETFROM:+0200
TZOFFSETTO:+0100
TZNAME:CET
DTSTART:20211031T010000
END:STANDARD
END:VTIMEZONE
BEGIN:VEVENT
DTSTART;VALUE=DATE:20211018
DTEND;VALUE=DATE:20211023
DTSTAMP:20260425T202128
CREATED:20210830T105636Z
LAST-MODIFIED:20210930T110912Z
UID:19213-1634515200-1634947199@www.cytognos.com
SUMMARY:CYTOWEEK 2021
DESCRIPTION:Cytognos estará presente en la CYTOWEEK 2021. El evento se realizará del 18 al 29 de octubre del 2021 de manera virtual con el apoyo de la Facultad de Medicina y Ciencias Biomédicas de la Universidad Autónoma de Chihuahua y Laboratorio Nacional de Citometría de Flujo sedes UNAM y UABJO. \nEl objetivo de este evento virtual es dar a conocer la citometría y sus aplicaciones tanto clínicas como de investigación\, contando con expertos investigadores en Citometría que nos compartirán su experiencia y sus líneas de investigación. \nLa CYTOWEEK\, estará dirigida a académicos/investigadores y profesionales de áreas afines\, que tengan interés en conocer o actualizarse sobre la citometría de flujo\, y consiste en: \n\nUn ciclo de conferencias gratuito que se realizará del 18 al 22 de octubre.\nUn curso práctico de aplicaciones del 25 al 29 de octubre\, en modalidad virtual con un costo de $2.000 (pesos mexicanos).\n\nSi quieres conseguir una de las 5 becas que Cytognos estará otorgando no olvides inscribirte en el siguiente link y recibirás más información. \nPara ello necesitas: \n⭐ Ser estudiante de pregrado o posgrado.\n⭐ Carta de motivos dirigida a los organizadores del evento.\n⭐ Acreditar el examen de citometría básica. \n¡No te pierdas el “Cytognos Day”! Nuestra compañera Macarena Izquierdo estará presentando la charla “Monitorización inmune de pacientes COVID 19”. \nEsta sesión será del día 20 de octubre a las 12:00 PM (UTC-6). \nTambién podrás disfrutar de la sesión practica en el curso de aplicaciones\, donde analizaremos en vivo el perfil inmunológico de un paciente COVID utilizando nuestro software Infinicyt™ 2.0. \n¡No te pierdas este evento virtual! \nPara más información: \nFacebook: @LabNaclCitUACH\nCorreo electrónico: labnalcit@uach.mx \n.fusion-button.button-1 .fusion-button-text\, .fusion-button.button-1 i {color:#bb0000;}.fusion-button.button-1 {border-width:1px;border-color:#bb0000;}.fusion-button.button-1 .fusion-button-icon-divider{border-color:#bb0000;}.fusion-button.button-1:hover .fusion-button-text\, .fusion-button.button-1:hover i\,.fusion-button.button-1:focus .fusion-button-text\, .fusion-button.button-1:focus i\,.fusion-button.button-1:active .fusion-button-text\, .fusion-button.button-1:active{color:#bb0000;}.fusion-button.button-1:hover\, .fusion-button.button-1:focus\, .fusion-button.button-1:active{border-width:1px;border-color:#bb0000;}.fusion-button.button-1:hover .fusion-button-icon-divider\, .fusion-button.button-1:hover .fusion-button-icon-divider\, .fusion-button.button-1:active .fusion-button-icon-divider{border-color:#bb0000;}.fusion-button.button-1 .fusion-button-text {text-transform:uppercase;}.fusion-button.button-1{width:auto;}Regístrese ahora \n  \nContact info: \nMacarena Izquierdo Peyrallo\, Flow Technical and Product Specialist México (mizquierdo@cytognos.com) \n
URL:https://www.cytognos.com/event/cytoweek-2021/
CATEGORIES:Congresses and Meetings
ATTACH;FMTTYPE=image/png:https://www.cytognos.com/wp-content/uploads/CYTOWEEK-BECA-min.png
END:VEVENT
END:VCALENDAR