BEGIN:VCALENDAR
VERSION:2.0
PRODID:-//Cytognos, S.L. - ECPv4.9.7//NONSGML v1.0//EN
CALSCALE:GREGORIAN
METHOD:PUBLISH
X-WR-CALNAME:Cytognos, S.L.
X-ORIGINAL-URL:https://www.cytognos.com
X-WR-CALDESC:Events for Cytognos, S.L.
BEGIN:VTIMEZONE
TZID:"Europe/Paris"
BEGIN:DAYLIGHT
TZOFFSETFROM:+0100
TZOFFSETTO:+0200
TZNAME:CEST
DTSTART:20210328T010000
END:DAYLIGHT
BEGIN:STANDARD
TZOFFSETFROM:+0200
TZOFFSETTO:+0100
TZNAME:CET
DTSTART:20211031T010000
END:STANDARD
END:VTIMEZONE
BEGIN:VEVENT
DTSTART;VALUE=DATE:20210916
DTEND;VALUE=DATE:20210917
DTSTAMP:20260425T165415
CREATED:20210830T124105Z
LAST-MODIFIED:20210830T124705Z
UID:19216-1631750400-1631836799@www.cytognos.com
SUMMARY:CYTIMA 2021
DESCRIPTION:Cytognos sera présent à la réunion scientifique annuelle de CYTIMA. Cet événement se déroulera virtuellement le Jeudi 16 septembre. Ces journées sont consacrées à l’analyse cellulaire et tissulaire quantitative par cytométrie et imagerie. \nNous ferons une présentation intitulée «panel de dépistage de déficits immunitaires primitifs ». Dans cette présentation\, vous apprendrais: \n\nPourquoi une étape de dépistage pour le diagnostic de déficits immunitaires primitifs est-elle nécessaire?\nComment standardiser la méthodologie proposée par EuroFlow.\n\nVous pouvez consulter le programme complet ici \n.fusion-button.button-1 .fusion-button-text\, .fusion-button.button-1 i {color:#bb0000;}.fusion-button.button-1 {border-width:1px;border-color:#bb0000;}.fusion-button.button-1 .fusion-button-icon-divider{border-color:#bb0000;}.fusion-button.button-1:hover .fusion-button-text\, .fusion-button.button-1:hover i\,.fusion-button.button-1:focus .fusion-button-text\, .fusion-button.button-1:focus i\,.fusion-button.button-1:active .fusion-button-text\, .fusion-button.button-1:active{color:#bb0000;}.fusion-button.button-1:hover\, .fusion-button.button-1:focus\, .fusion-button.button-1:active{border-width:1px;border-color:#bb0000;}.fusion-button.button-1:hover .fusion-button-icon-divider\, .fusion-button.button-1:hover .fusion-button-icon-divider\, .fusion-button.button-1:active .fusion-button-icon-divider{border-color:#bb0000;}.fusion-button.button-1 .fusion-button-text {text-transform:uppercase;}.fusion-button.button-1{width:auto;}S’inscrire\n  \nPrésenté en anglais par: \nAlejandra Jimenez Flores PhD.\, Product Specialist \n
URL:https://www.cytognos.com/event/cytima-2021/
CATEGORIES:Congresses and Meetings
ATTACH;FMTTYPE=image/png:https://www.cytognos.com/wp-content/uploads/cytima-21-min.png
END:VEVENT
END:VCALENDAR