BEGIN:VCALENDAR
VERSION:2.0
PRODID:-//Cytognos, S.L. - ECPv4.9.7//NONSGML v1.0//EN
CALSCALE:GREGORIAN
METHOD:PUBLISH
X-WR-CALNAME:Cytognos, S.L.
X-ORIGINAL-URL:https://www.cytognos.com
X-WR-CALDESC:Events for Cytognos, S.L.
BEGIN:VTIMEZONE
TZID:"Europe/Paris"
BEGIN:DAYLIGHT
TZOFFSETFROM:+0100
TZOFFSETTO:+0200
TZNAME:CEST
DTSTART:20210328T010000
END:DAYLIGHT
BEGIN:STANDARD
TZOFFSETFROM:+0200
TZOFFSETTO:+0100
TZNAME:CET
DTSTART:20211031T010000
END:STANDARD
END:VTIMEZONE
BEGIN:VEVENT
DTSTART;VALUE=DATE:20210721
DTEND;VALUE=DATE:20210724
DTSTAMP:20260425T202240
CREATED:20210720T122423Z
LAST-MODIFIED:20210720T122423Z
UID:18804-1626825600-1627084799@www.cytognos.com
SUMMARY:CIS Diagnostic school 2021
DESCRIPTION:Cytognos is participating at the virtual CIS Diagnostic School next July 21-23\, 2021 organized by the Clinical Immunology Society (CIS). \nThe meeting will be conducted over Zoom and there will be didactic lectures from Faculty which focus on specific disease states; case presentations from all selected applicants; and additional large group work. The case presentations by applicants will have a heavy focus on the diagnostic tools available\, and used\, when seeing a patient. The large group work for the virtual format will be what we are calling diagnostic potpourri.  Diagnostic potpourri will feature 6 cases drawn from faculty experience showing a diagnostic test/assay that is useful for the diagnosis of inborn errors of immunity. These cases will all be done in a lightning format. \nFor more information on the course program and for registration please check out https://clinimmsoc.org/CIS.htm \n“See” you all there! \n
URL:https://www.cytognos.com/event/cis-diagnostic-school-2021/
CATEGORIES:Congresses and Meetings
ATTACH;FMTTYPE=image/jpeg:https://www.cytognos.com/wp-content/uploads/CIS-2021-min-1.jpg
END:VEVENT
END:VCALENDAR