BEGIN:VCALENDAR
VERSION:2.0
PRODID:-//Cytognos, S.L. - ECPv4.9.7//NONSGML v1.0//EN
CALSCALE:GREGORIAN
METHOD:PUBLISH
X-WR-CALNAME:Cytognos, S.L.
X-ORIGINAL-URL:https://www.cytognos.com
X-WR-CALDESC:Events for Cytognos, S.L.
BEGIN:VTIMEZONE
TZID:"Europe/Paris"
BEGIN:DAYLIGHT
TZOFFSETFROM:+0100
TZOFFSETTO:+0200
TZNAME:CEST
DTSTART:20200329T010000
END:DAYLIGHT
BEGIN:STANDARD
TZOFFSETFROM:+0200
TZOFFSETTO:+0100
TZNAME:CET
DTSTART:20201025T010000
END:STANDARD
END:VTIMEZONE
BEGIN:VEVENT
DTSTART;VALUE=DATE:20200113
DTEND;VALUE=DATE:20200116
DTSTAMP:20260425T165352
CREATED:20191219T143504Z
LAST-MODIFIED:20200113T164721Z
UID:6340-1578873600-1579132799@www.cytognos.com
SUMMARY:CCEN 2020 - 9th Practical Clinical Cytometry Course
DESCRIPTION:Meet with Cytognos team and learn about our Next Generation Flow (NGF) solution for hemato oncology applications. \nContact info:\nIrene González\, Market Development and Support – USA & Canada (igonzalez@cytognos.com) \n\n
URL:https://www.cytognos.com/event/ccen-2019/
LOCATION:Miami\, Miami\, FL\, United States
CATEGORIES:Congresses and Meetings
ATTACH;FMTTYPE=image/jpeg:https://www.cytognos.com/wp-content/uploads/miami.jpg
END:VEVENT
END:VCALENDAR