BEGIN:VCALENDAR
VERSION:2.0
PRODID:-//Cytognos, S.L. - ECPv4.9.7//NONSGML v1.0//EN
CALSCALE:GREGORIAN
METHOD:PUBLISH
X-WR-CALNAME:Cytognos, S.L.
X-ORIGINAL-URL:https://www.cytognos.com
X-WR-CALDESC:Events for Cytognos, S.L.
BEGIN:VTIMEZONE
TZID:"Europe/Paris"
BEGIN:DAYLIGHT
TZOFFSETFROM:+0100
TZOFFSETTO:+0200
TZNAME:CEST
DTSTART:20200329T010000
END:DAYLIGHT
BEGIN:STANDARD
TZOFFSETFROM:+0200
TZOFFSETTO:+0100
TZNAME:CET
DTSTART:20201025T010000
END:STANDARD
END:VTIMEZONE
BEGIN:VEVENT
DTSTART;VALUE=DATE:20201109
DTEND;VALUE=DATE:20201114
DTSTAMP:20260425T185658
CREATED:20201019T085733Z
LAST-MODIFIED:20201021T154709Z
UID:13083-1604880000-1605311999@www.cytognos.com
SUMMARY:1er Congreso Virtual Iberoamericano de Citometría 2020
DESCRIPTION:Del 9 al 13 de noviembre\, Cytognos estará presente en el Primer Congreso Virtual Iberoamericano de Citometría – LATINFLOW 2020. \nLas ponencias tendrán lugar de manera virtual a través de la plataforma ZOOM todos los días con el siguiente horario: \nMéxico 9:00-13:00\, UTC-6\nColombia\, Ecuador\, Perú 10:00-14:00\, UTC-5\nSão Paulo\, Brasil 11:00-15:00\, UTC-3\nMadrid\, España 16:00-20:00\, CET \n\nNuestra compañera y especialista de aplicaciones Macarena Izquierdo Peyrallo\, impartirá la sesión Recomendaciones para obtener resultados óptimos en sus estudios de EMR en mieloma múltiple. \n¡No se pierda esta sesión el martes 10 de noviembre a las 18:15\, CET! \nRegístrese de forma totalmente gratuita \nConsulte el programa preliminar y más información aquí \n¡Le esperamos! \nOrganizado por la Red Iberoamericana de Citometría de Flujo – LatinFlow con el apoyo de ISAC – International Society for the Advancement of Cytometry. \n
URL:https://www.cytognos.com/event/1er-congreso-virtual-iberoamericano-de-citometria-2020/
CATEGORIES:Congresses and Meetings
ATTACH;FMTTYPE=image/png:https://www.cytognos.com/wp-content/uploads/latinflow2020-min.png
END:VEVENT
END:VCALENDAR