BEGIN:VCALENDAR
VERSION:2.0
PRODID:-//Cytognos, S.L. - ECPv4.9.7//NONSGML v1.0//EN
CALSCALE:GREGORIAN
METHOD:PUBLISH
X-WR-CALNAME:Cytognos, S.L.
X-ORIGINAL-URL:https://www.cytognos.com
X-WR-CALDESC:Events for Cytognos, S.L.
BEGIN:VTIMEZONE
TZID:"Europe/Paris"
BEGIN:DAYLIGHT
TZOFFSETFROM:+0100
TZOFFSETTO:+0200
TZNAME:CEST
DTSTART:20210328T010000
END:DAYLIGHT
BEGIN:STANDARD
TZOFFSETFROM:+0200
TZOFFSETTO:+0100
TZNAME:CET
DTSTART:20211031T010000
END:STANDARD
END:VTIMEZONE
BEGIN:VEVENT
DTSTART;VALUE=DATE:20211002
DTEND;VALUE=DATE:20211006
DTSTAMP:20260425T185536
CREATED:20210830T090330Z
LAST-MODIFIED:20210830T110438Z
UID:19196-1633132800-1633478399@www.cytognos.com
SUMMARY:11th International Conference Analytical Cytometry
DESCRIPTION:Cytognos will be present at the 11th International Conference Analytical Cytometry which will be offered in-person at the Clarion Congress Hotel in Ostrava from October 2-5\, 2021. \nThe 11th International Conference Analytical Cytometry will be devoted to cell and tumor biology\, cell therapies and hematology\, immunology including reproductive immunology\, sorting for single-cell RNA sequencing\, microfluidics and data analysis. \nCytognos will be present with a talk on the new IVD regulation\, and we will present a poster on “comprehensive immune monitoring of t cell subpopulations gives relevant information to improve patient care” \nRead here to learn more about 11th International Conference Analytical Cytometry. \n.fusion-button.button-1 .fusion-button-text\, .fusion-button.button-1 i {color:#bb0000;}.fusion-button.button-1 {border-width:1px;border-color:#bb0000;}.fusion-button.button-1 .fusion-button-icon-divider{border-color:#bb0000;}.fusion-button.button-1:hover .fusion-button-text\, .fusion-button.button-1:hover i\,.fusion-button.button-1:focus .fusion-button-text\, .fusion-button.button-1:focus i\,.fusion-button.button-1:active .fusion-button-text\, .fusion-button.button-1:active{color:#bb0000;}.fusion-button.button-1:hover\, .fusion-button.button-1:focus\, .fusion-button.button-1:active{border-width:1px;border-color:#bb0000;}.fusion-button.button-1:hover .fusion-button-icon-divider\, .fusion-button.button-1:hover .fusion-button-icon-divider\, .fusion-button.button-1:active .fusion-button-icon-divider{border-color:#bb0000;}.fusion-button.button-1 .fusion-button-text {text-transform:uppercase;}.fusion-button.button-1{width:auto;}Register now\n  \nContact info: \nArantxa Huarriz Sagüés\, Flow Technical and Product Specialist Czech Republic (ahuarriz@cytognos.com) \n
URL:https://www.cytognos.com/event/11th-international-conference-analytical-cytometry/
CATEGORIES:Congresses and Meetings
ATTACH;FMTTYPE=image/png:https://www.cytognos.com/wp-content/uploads/CZAC-21-min.png
END:VEVENT
END:VCALENDAR