BEGIN:VCALENDAR
VERSION:2.0
PRODID:-//Cytognos, S.L. - ECPv4.9.7//NONSGML v1.0//EN
CALSCALE:GREGORIAN
METHOD:PUBLISH
X-WR-CALNAME:Cytognos, S.L.
X-ORIGINAL-URL:https://www.cytognos.com
X-WR-CALDESC:Events for Cytognos, S.L.
BEGIN:VTIMEZONE
TZID:"Europe/Paris"
BEGIN:DAYLIGHT
TZOFFSETFROM:+0100
TZOFFSETTO:+0200
TZNAME:CEST
DTSTART:20210328T010000
END:DAYLIGHT
BEGIN:STANDARD
TZOFFSETFROM:+0200
TZOFFSETTO:+0100
TZNAME:CET
DTSTART:20211031T010000
END:STANDARD
END:VTIMEZONE
BEGIN:VEVENT
DTSTART;VALUE=DATE:20211111
DTEND;VALUE=DATE:20211113
DTSTAMP:20260425T172150
CREATED:20210830T092443Z
LAST-MODIFIED:20211103T121326Z
UID:19199-1636588800-1636761599@www.cytognos.com
SUMMARY:10th ESLHO Symposium
DESCRIPTION:Meet us in Leiden (The Netherlands) for the 10th ESLHO Symposium\, in November 11-12\, 2021. \nThe 10th ESLHO Symposium on Monitoring of immunotherapies: Basis for Companion Diagnostics? + IVDR Workshop will be hybrid (held in-person at CORPUS Congress Centre and virtually). Consult program here. \nIf you are planning to attend in person\, feel free to visit our exhibitor booth\, shared with our distributors in Benelux\, Sanbio BV. \nIf you are attending virtually\, we can connect at our virtual booth. \nLook forward to meeting or e-meeting you there! \n.fusion-button.button-1 .fusion-button-text\, .fusion-button.button-1 i {color:#bb0000;}.fusion-button.button-1 {border-width:1px;border-color:#bb0000;}.fusion-button.button-1 .fusion-button-icon-divider{border-color:#bb0000;}.fusion-button.button-1:hover .fusion-button-text\, .fusion-button.button-1:hover i\,.fusion-button.button-1:focus .fusion-button-text\, .fusion-button.button-1:focus i\,.fusion-button.button-1:active .fusion-button-text\, .fusion-button.button-1:active{color:#bb0000;}.fusion-button.button-1:hover\, .fusion-button.button-1:focus\, .fusion-button.button-1:active{border-width:1px;border-color:#bb0000;}.fusion-button.button-1:hover .fusion-button-icon-divider\, .fusion-button.button-1:hover .fusion-button-icon-divider\, .fusion-button.button-1:active .fusion-button-icon-divider{border-color:#bb0000;}.fusion-button.button-1 .fusion-button-text {text-transform:uppercase;}.fusion-button.button-1{width:auto;}Register now\n  \nContact info: \nMaría Ochoa González\, Flow Technical and Product Specialist The Netherlands and Belgium (mochoa@cytognos.com) \n
URL:https://www.cytognos.com/event/10th-eslho-symposium/
CATEGORIES:Congresses and Meetings
ATTACH;FMTTYPE=image/png:https://www.cytognos.com/wp-content/uploads/eslo-21-min.png
END:VEVENT
END:VCALENDAR